Index of /checkResults/release/bioc-LATEST/CNVgears/raw-results
Name
Last modified
Size
Description
Parent Directory
-
info.dcf
05-Oct-2023 00:37
289
palomino3/
05-Oct-2023 00:36
-
nebbiolo1/
05-Oct-2023 00:35
-
merida1/
05-Oct-2023 00:37
-