Index of /checkResults/release/bioc-LATEST/CNVgears/raw-results

[ICO]NameLast modifiedSizeDescription

[DIR]Parent Directory  -  
[   ]info.dcf20-Jan-2022 03:07 289  
[DIR]machv2/20-Jan-2022 03:07 -  
[DIR]nebbiolo2/20-Jan-2022 03:05 -  
[DIR]tokay2/20-Jan-2022 03:06 -