Name | Last modified | Size | Description | |
---|---|---|---|---|
Parent Directory | - | |||
buildsrc-out.txt | 17-Jul-2024 06:38 | 889 | ||
buildsrc-summary.dcf | 17-Jul-2024 06:38 | 432 | ||
checksrc-out.txt | 17-Jul-2024 06:38 | 3.7K | ||
checksrc-summary.dcf | 17-Jul-2024 06:38 | 434 | ||
install-out.txt | 17-Jul-2024 06:38 | 1.0K | ||
install-summary.dcf | 17-Jul-2024 06:38 | 269 | ||