Name | Last modified | Size | Description | |
---|---|---|---|---|
Parent Directory | - | |||
install-summary.dcf | 15-Jun-2024 03:38 | 266 | ||
install-out.txt | 15-Jun-2024 03:38 | 1.8K | ||
checksrc-summary.dcf | 15-Jun-2024 03:38 | 443 | ||
checksrc-out.txt | 15-Jun-2024 03:38 | 5.0K | ||
buildsrc-summary.dcf | 15-Jun-2024 03:38 | 448 | ||
buildsrc-out.txt | 15-Jun-2024 03:38 | 926 | ||
buildbin-summary.dcf | 15-Jun-2024 03:38 | 509 | ||
buildbin-out.txt | 15-Jun-2024 03:38 | 2.0K | ||