Back to Multiple platform build/check report for BioC 3.12
AB[C]DEFGHIJKLMNOPQRSTUVWXYZ

CHECK report for CNAnorm on tokay1

This page was generated on 2021-02-22 12:37:30 -0500 (Mon, 22 Feb 2021).

To the developers/maintainers of the CNAnorm package:
Please make sure to use the following settings in order to reproduce any error or warning you see on this page.
Package 332/1974HostnameOS / ArchINSTALLBUILDCHECKBUILD BIN
CNAnorm 1.36.0
Stefano Berri
Snapshot Date: 2021-02-21 14:52:07 -0500 (Sun, 21 Feb 2021)
URL: https://git.bioconductor.org/packages/CNAnorm
Branch: RELEASE_3_12
Last Commit: 9bfd2c4
Last Changed Date: 2020-10-27 10:43:06 -0500 (Tue, 27 Oct 2020)
malbec1Linux (Ubuntu 18.04.5 LTS) / x86_64  OK    OK    OK  UNNEEDED, same version exists in internal repository
nebbiolo1Linux (Ubuntu 20.04.2 LTS) / x86_64  OK    OK    OK  
tokay1Windows Server 2012 R2 Standard / x64  OK    OK    OK    OK  UNNEEDED, same version exists in internal repository
merida1macOS 10.14.6 Mojave / x86_64  OK    OK    OK    OK  UNNEEDED, same version exists in internal repository

Summary

Package: CNAnorm
Version: 1.36.0
Command: C:\Users\biocbuild\bbs-3.12-bioc\R\bin\R.exe CMD check --force-multiarch --install=check:CNAnorm.install-out.txt --library=C:\Users\biocbuild\bbs-3.12-bioc\R\library --no-vignettes --timings CNAnorm_1.36.0.tar.gz
StartedAt: 2021-02-22 01:37:29 -0500 (Mon, 22 Feb 2021)
EndedAt: 2021-02-22 01:39:07 -0500 (Mon, 22 Feb 2021)
EllapsedTime: 98.3 seconds
RetCode: 0
Status:   OK   
CheckDir: CNAnorm.Rcheck
Warnings: 0

Command output

##############################################################################
##############################################################################
###
### Running command:
###
###   C:\Users\biocbuild\bbs-3.12-bioc\R\bin\R.exe CMD check --force-multiarch --install=check:CNAnorm.install-out.txt --library=C:\Users\biocbuild\bbs-3.12-bioc\R\library --no-vignettes --timings CNAnorm_1.36.0.tar.gz
###
##############################################################################
##############################################################################


* using log directory 'C:/Users/biocbuild/bbs-3.12-bioc/meat/CNAnorm.Rcheck'
* using R version 4.0.3 (2020-10-10)
* using platform: x86_64-w64-mingw32 (64-bit)
* using session charset: ISO8859-1
* using option '--no-vignettes'
* checking for file 'CNAnorm/DESCRIPTION' ... OK
* this is package 'CNAnorm' version '1.36.0'
* checking package namespace information ... OK
* checking package dependencies ... OK
* checking if this is a source package ... OK
* checking if there is a namespace ... OK
* checking for hidden files and directories ... OK
* checking for portable file names ... OK
* checking whether package 'CNAnorm' can be installed ... OK
* checking installed package size ... OK
* checking package directory ... OK
* checking 'build' directory ... OK
* checking DESCRIPTION meta-information ... OK
* checking top-level files ... OK
* checking for left-over files ... OK
* checking index information ... OK
* checking package subdirectories ... OK
* checking R files for non-ASCII characters ... OK
* checking R files for syntax errors ... OK
* loading checks for arch 'i386'
** checking whether the package can be loaded ... OK
** checking whether the package can be loaded with stated dependencies ... OK
** checking whether the package can be unloaded cleanly ... OK
** checking whether the namespace can be loaded with stated dependencies ... OK
** checking whether the namespace can be unloaded cleanly ... OK
* loading checks for arch 'x64'
** checking whether the package can be loaded ... OK
** checking whether the package can be loaded with stated dependencies ... OK
** checking whether the package can be unloaded cleanly ... OK
** checking whether the namespace can be loaded with stated dependencies ... OK
** checking whether the namespace can be unloaded cleanly ... OK
* checking dependencies in R code ... OK
* checking S3 generic/method consistency ... OK
* checking replacement functions ... OK
* checking foreign function calls ... OK
* checking R code for possible problems ... NOTE
.OTquantileWeights: no visible global function definition for 'median'
.OTquantileWeights: no visible global function definition for
  'quantile'
.TTquantileWeights: no visible global function definition for 'median'
.TTquantileWeights: no visible global function definition for
  'quantile'
.exportTable: no visible global function definition for 'write.table'
.gaussianWeights: no visible global function definition for 'median'
.gaussianWeights: no visible global function definition for 'sd'
.guessPeaksAndPloidy: no visible global function definition for
  'density'
.guessPeaksAndPloidy: no visible global function definition for
  'median'
.peakPloidy: no visible global function definition for 'median'
.plotGenome: no visible global function definition for 'text'
.plotGenome: no visible global function definition for 'par'
.plotGenome: no visible global function definition for 'points'
.plotGenome: no visible global function definition for 'axis'
.plotGenome: no visible global function definition for 'axTicks'
.plotGenome: no visible global function definition for 'title'
.plotGenome: no visible global function definition for 'mtext'
.plotGenome: no visible global function definition for 'abline'
.plotGenome: no visible global function definition for 'data'
.plotGenome: no visible global function definition for 'lines'
.plotPeaks: no visible global function definition for 'density'
.plotPeaks: no visible global function definition for 'median'
.plotPeaks: no visible global function definition for 'lines'
.plotPeaks: no visible global function definition for 'abline'
.plotPeaks: no visible global function definition for 'text'
.plotPeaks: no visible global function definition for 'legend'
.plotPeaks_old: no visible global function definition for 'median'
.plotPeaks_old: no visible global function definition for 'lines'
.plotPeaks_old: no visible global function definition for 'abline'
.plotPeaks_old: no visible global function definition for 'text'
.plotPeaks_old: no visible global function definition for 'legend'
Rcheck: no visible global function definition for 'lm'
bandseg: no visible global function definition for 'filter'
brute.seg: no visible global function definition for 'median'
findOutliers: no visible global function definition for 'median'
findOutliers: no visible global function definition for 'density'
gcNormalize: no visible global function definition for 'loess'
gcNormalize: no visible global function definition for 'predict'
gcNormalize: no visible global function definition for 'median'
get.initial.values: no visible global function definition for 'var'
get.initial.values: no visible global function definition for
  'quantile'
getMQR: no visible global function definition for 'lm'
global.norm: no visible global function definition for 'lm'
global.norm: no visible global function definition for 'predict'
medianWinSize: no visible global function definition for 'median'
myDensity: no visible global function definition for 'median'
myDensity: no visible global function definition for 'sd'
myDensity: no visible global function definition for 'density'
myPeaks: no visible global function definition for 'embed'
pdetect: no visible global function definition for 'rnorm'
pdetect: no visible global function definition for 'density'
pdetect: no visible global function definition for 'var'
pdetect: no visible global function definition for 'quantile'
pdetect: no visible global function definition for 'dnorm'
pdetect: no visible global function definition for 'median'
pdetect.iter: no visible global function definition for 'var'
pdetect.iter: no visible global function definition for 'dnorm'
pdetect.iter: no visible global function definition for 'median'
plotPeaksMixture: no visible global function definition for 'median'
plotPeaksMixture: no visible global function definition for 'hist'
plotPeaksMixture: no visible global function definition for 'abline'
rseg: no visible global function definition for 'median'
smoothseg: no visible global function definition for 'lines'
exportTable,CNAnorm: no visible global function definition for
  'write.table'
peakPloidy,CNAnorm: no visible global function definition for 'median'
plotGenome,CNAnorm: no visible global function definition for 'text'
plotGenome,CNAnorm: no visible global function definition for 'par'
plotGenome,CNAnorm: no visible global function definition for 'points'
plotGenome,CNAnorm: no visible global function definition for 'axis'
plotGenome,CNAnorm: no visible global function definition for 'axTicks'
plotGenome,CNAnorm: no visible global function definition for 'title'
plotGenome,CNAnorm: no visible global function definition for 'mtext'
plotGenome,CNAnorm: no visible global function definition for 'abline'
plotGenome,CNAnorm: no visible global function definition for 'data'
plotGenome,CNAnorm: no visible global function definition for 'lines'
plotPeaks,CNAnorm: no visible global function definition for 'density'
plotPeaks,CNAnorm: no visible global function definition for 'median'
plotPeaks,CNAnorm: no visible global function definition for 'lines'
plotPeaks,CNAnorm: no visible global function definition for 'abline'
plotPeaks,CNAnorm: no visible global function definition for 'text'
plotPeaks,CNAnorm: no visible global function definition for 'legend'
Undefined global functions or variables:
  abline axTicks axis data density dnorm embed filter hist legend lines
  lm loess median mtext par points predict quantile rnorm sd text title
  var write.table
Consider adding
  importFrom("graphics", "abline", "axTicks", "axis", "hist", "legend",
             "lines", "mtext", "par", "points", "text", "title")
  importFrom("stats", "density", "dnorm", "embed", "filter", "lm",
             "loess", "median", "predict", "quantile", "rnorm", "sd",
             "var")
  importFrom("utils", "data", "write.table")
to your NAMESPACE file.
* checking Rd files ... OK
* checking Rd metadata ... OK
* checking Rd cross-references ... OK
* checking for missing documentation entries ... OK
* checking for code/documentation mismatches ... OK
* checking Rd \usage sections ... OK
* checking Rd contents ... OK
* checking for unstated dependencies in examples ... OK
* checking contents of 'data' directory ... OK
* checking data for non-ASCII characters ... OK
* checking data for ASCII and uncompressed saves ... OK
* checking line endings in C/C++/Fortran sources/headers ... OK
* checking compiled code ... NOTE
Note: information on .o files for i386 is not available
Note: information on .o files for x64 is not available
File 'C:/Users/biocbuild/bbs-3.12-bioc/R/library/CNAnorm/libs/i386/CNAnorm.dll':
  Found 'abort', possibly from 'abort' (C), 'runtime' (Fortran)
File 'C:/Users/biocbuild/bbs-3.12-bioc/R/library/CNAnorm/libs/x64/CNAnorm.dll':
  Found 'abort', possibly from 'abort' (C), 'runtime' (Fortran)

Compiled code should not call entry points which might terminate R nor
write to stdout/stderr instead of to the console, nor use Fortran I/O
nor system RNGs. The detected symbols are linked into the code but
might come from libraries and not actually be called.

See 'Writing portable packages' in the 'Writing R Extensions' manual.
* checking files in 'vignettes' ... OK
* checking examples ...
** running examples for arch 'i386' ... OK
Examples with CPU (user + system) or elapsed time > 5s
            user system elapsed
peakPloidy 21.92    0.3   22.21
** running examples for arch 'x64' ... OK
Examples with CPU (user + system) or elapsed time > 5s
            user system elapsed
peakPloidy 17.16   0.27   17.42
* checking for unstated dependencies in vignettes ... OK
* checking package vignettes in 'inst/doc' ... OK
* checking running R code from vignettes ... SKIPPED
* checking re-building of vignette outputs ... SKIPPED
* checking PDF version of manual ... OK
* DONE

Status: 2 NOTEs
See
  'C:/Users/biocbuild/bbs-3.12-bioc/meat/CNAnorm.Rcheck/00check.log'
for details.



Installation output

CNAnorm.Rcheck/00install.out

##############################################################################
##############################################################################
###
### Running command:
###
###   C:\cygwin\bin\curl.exe -O https://malbec1.bioconductor.org/BBS/3.12/bioc/src/contrib/CNAnorm_1.36.0.tar.gz && rm -rf CNAnorm.buildbin-libdir && mkdir CNAnorm.buildbin-libdir && C:\Users\biocbuild\bbs-3.12-bioc\R\bin\R.exe CMD INSTALL --merge-multiarch --build --library=CNAnorm.buildbin-libdir CNAnorm_1.36.0.tar.gz && C:\Users\biocbuild\bbs-3.12-bioc\R\bin\R.exe CMD INSTALL CNAnorm_1.36.0.zip && rm CNAnorm_1.36.0.tar.gz CNAnorm_1.36.0.zip
###
##############################################################################
##############################################################################


  % Total    % Received % Xferd  Average Speed   Time    Time     Time  Current
                                 Dload  Upload   Total   Spent    Left  Speed

  0     0    0     0    0     0      0      0 --:--:-- --:--:-- --:--:--     0
100  288k  100  288k    0     0  7133k      0 --:--:-- --:--:-- --:--:-- 8004k

install for i386

* installing *source* package 'CNAnorm' ...
** using staged installation
** libs
"C:/rtools40/mingw32/bin/"gfortran  -fno-optimize-sibling-calls    -O2  -mfpmath=sse -msse2 -mstackrealign -c daxpy.f -o daxpy.o
"C:/rtools40/mingw32/bin/"gfortran  -fno-optimize-sibling-calls    -O2  -mfpmath=sse -msse2 -mstackrealign -c ddot.f -o ddot.o
"C:/rtools40/mingw32/bin/"gfortran  -fno-optimize-sibling-calls    -O2  -mfpmath=sse -msse2 -mstackrealign -c dgbfa.f -o dgbfa.o
"C:/rtools40/mingw32/bin/"gfortran  -fno-optimize-sibling-calls    -O2  -mfpmath=sse -msse2 -mstackrealign -c dgbsl.f -o dgbsl.o
"C:/rtools40/mingw32/bin/"gfortran  -fno-optimize-sibling-calls    -O2  -mfpmath=sse -msse2 -mstackrealign -c dscal.f -o dscal.o
"C:/rtools40/mingw32/bin/"gfortran  -fno-optimize-sibling-calls    -O2  -mfpmath=sse -msse2 -mstackrealign -c dsmooth.f -o dsmooth.o
"C:/rtools40/mingw32/bin/"gfortran  -fno-optimize-sibling-calls    -O2  -mfpmath=sse -msse2 -mstackrealign -c idamax.f -o idamax.o
C:/rtools40/mingw32/bin/gcc -shared -s -static-libgcc -o CNAnorm.dll tmp.def daxpy.o ddot.o dgbfa.o dgbsl.o dscal.o dsmooth.o idamax.o -LC:/extsoft/lib/i386 -LC:/extsoft/lib -lgfortran -lm -lquadmath -LC:/Users/BIOCBU~1/BBS-3~1.12-/R/bin/i386 -lR
installing to C:/Users/biocbuild/bbs-3.12-bioc/meat/CNAnorm.buildbin-libdir/00LOCK-CNAnorm/00new/CNAnorm/libs/i386
** R
** data
** inst
** byte-compile and prepare package for lazy loading
** help
*** installing help indices
  converting help for package 'CNAnorm'
    finding HTML links ... done
    CN                                      html  
    CNAnorm-class                           html  
    DerivData-class                         html  
    InData-class                            html  
    LS041                                   html  
    Params-class                            html  
    addDNACopy-methods                      html  
    addSmooth-methods                       html  
    chrsAndpos-methods                      html  
    data-hg19_hs_ideogr                     html  
    dataFrame2object                        html  
    discreteNorm-methods                    html  
    exportTable-method                      html  
    gPar                                    html  
    gcNorm-methods                          html  
    peakPloidy                              html  
    plotGenome-methods                      html  
    plotPeaks-methods                       html  
    ratio-methods                           html  
    suggValid-methods                       html  
    validation-methods                      html  
    workflowWrapper                         html  
** building package indices
** installing vignettes
** testing if installed package can be loaded from temporary location
** testing if installed package can be loaded from final location
** testing if installed package keeps a record of temporary installation path

install for x64

* installing *source* package 'CNAnorm' ...
** libs
"C:/rtools40/mingw64/bin/"gfortran  -fno-optimize-sibling-calls    -O2  -mfpmath=sse -msse2 -mstackrealign -c daxpy.f -o daxpy.o
"C:/rtools40/mingw64/bin/"gfortran  -fno-optimize-sibling-calls    -O2  -mfpmath=sse -msse2 -mstackrealign -c ddot.f -o ddot.o
"C:/rtools40/mingw64/bin/"gfortran  -fno-optimize-sibling-calls    -O2  -mfpmath=sse -msse2 -mstackrealign -c dgbfa.f -o dgbfa.o
"C:/rtools40/mingw64/bin/"gfortran  -fno-optimize-sibling-calls    -O2  -mfpmath=sse -msse2 -mstackrealign -c dgbsl.f -o dgbsl.o
"C:/rtools40/mingw64/bin/"gfortran  -fno-optimize-sibling-calls    -O2  -mfpmath=sse -msse2 -mstackrealign -c dscal.f -o dscal.o
"C:/rtools40/mingw64/bin/"gfortran  -fno-optimize-sibling-calls    -O2  -mfpmath=sse -msse2 -mstackrealign -c dsmooth.f -o dsmooth.o
"C:/rtools40/mingw64/bin/"gfortran  -fno-optimize-sibling-calls    -O2  -mfpmath=sse -msse2 -mstackrealign -c idamax.f -o idamax.o
C:/rtools40/mingw64/bin/gcc -shared -s -static-libgcc -o CNAnorm.dll tmp.def daxpy.o ddot.o dgbfa.o dgbsl.o dscal.o dsmooth.o idamax.o -LC:/extsoft/lib/x64 -LC:/extsoft/lib -lgfortran -lm -lquadmath -LC:/Users/BIOCBU~1/BBS-3~1.12-/R/bin/x64 -lR
installing to C:/Users/biocbuild/bbs-3.12-bioc/meat/CNAnorm.buildbin-libdir/CNAnorm/libs/x64
** testing if installed package can be loaded
* MD5 sums
packaged installation of 'CNAnorm' as CNAnorm_1.36.0.zip
* DONE (CNAnorm)
* installing to library 'C:/Users/biocbuild/bbs-3.12-bioc/R/library'
package 'CNAnorm' successfully unpacked and MD5 sums checked

Tests output


Example timings

CNAnorm.Rcheck/examples_i386/CNAnorm-Ex.timings

nameusersystemelapsed
CNAnorm-class0.050.000.04
DerivData-class0.060.000.06
InData-class000
Params-class0.000.010.02
addDNACopy-methods0.830.020.84
addSmooth-methods0.470.000.47
chrsAndpos-methods0.010.000.02
dataFrame2object0.020.000.02
discreteNorm-methods0.010.000.01
exportTable-method0.160.000.16
gcNorm-methods0.470.000.47
peakPloidy21.92 0.3022.21
plotGenome-methods1.280.001.29
plotPeaks-methods0.20.00.2
ratio-methods0.440.000.44
suggValid-methods0.000.020.01
validation-methods0.000.010.02
workflowWrapper1.360.001.36

CNAnorm.Rcheck/examples_x64/CNAnorm-Ex.timings

nameusersystemelapsed
CNAnorm-class0.020.020.03
DerivData-class0.120.000.13
InData-class000
Params-class0.010.000.02
addDNACopy-methods0.780.000.78
addSmooth-methods0.470.010.48
chrsAndpos-methods0.020.000.02
dataFrame2object0.010.000.01
discreteNorm-methods0.020.000.02
exportTable-method0.160.000.16
gcNorm-methods0.40.00.4
peakPloidy17.16 0.2717.42
plotGenome-methods1.280.001.29
plotPeaks-methods0.280.000.28
ratio-methods0.410.000.40
suggValid-methods0.000.010.02
validation-methods0.010.000.01
workflowWrapper0.80.00.8