Back to Multiple platform build/check report for BioC 3.12
AB[C]DEFGHIJKLMNOPQRSTUVWXYZ

BUILD report for CNAnorm on tokay1

This page was generated on 2021-02-22 12:37:30 -0500 (Mon, 22 Feb 2021).

To the developers/maintainers of the CNAnorm package:
Please make sure to use the following settings in order to reproduce any error or warning you see on this page.
Package 332/1974HostnameOS / ArchINSTALLBUILDCHECKBUILD BIN
CNAnorm 1.36.0
Stefano Berri
Snapshot Date: 2021-02-21 14:52:07 -0500 (Sun, 21 Feb 2021)
URL: https://git.bioconductor.org/packages/CNAnorm
Branch: RELEASE_3_12
Last Commit: 9bfd2c4
Last Changed Date: 2020-10-27 10:43:06 -0500 (Tue, 27 Oct 2020)
malbec1Linux (Ubuntu 18.04.5 LTS) / x86_64  OK    OK    OK  UNNEEDED, same version exists in internal repository
nebbiolo1Linux (Ubuntu 20.04.2 LTS) / x86_64  OK    OK    OK  
tokay1Windows Server 2012 R2 Standard / x64  OK    OK    OK    OK  UNNEEDED, same version exists in internal repository
merida1macOS 10.14.6 Mojave / x86_64  OK    OK    OK    OK  UNNEEDED, same version exists in internal repository

Summary

Package: CNAnorm
Version: 1.36.0
Command: chmod a+r CNAnorm -R && C:\Users\biocbuild\bbs-3.12-bioc\R\bin\R.exe CMD build --keep-empty-dirs --no-resave-data CNAnorm
StartedAt: 2021-02-21 20:14:45 -0500 (Sun, 21 Feb 2021)
EndedAt: 2021-02-21 20:15:07 -0500 (Sun, 21 Feb 2021)
EllapsedTime: 22.3 seconds
RetCode: 0
Status:   OK   
PackageFile: CNAnorm_1.36.0.tar.gz
PackageFileSize: 1.457 MiB

Command output

##############################################################################
##############################################################################
###
### Running command:
###
###   chmod a+r CNAnorm -R && C:\Users\biocbuild\bbs-3.12-bioc\R\bin\R.exe CMD build --keep-empty-dirs --no-resave-data CNAnorm
###
##############################################################################
##############################################################################


* checking for file 'CNAnorm/DESCRIPTION' ... OK
* preparing 'CNAnorm':
* checking DESCRIPTION meta-information ... OK
* cleaning src
* installing the package to build vignettes
* creating vignettes ... OK
* cleaning src
* checking for LF line-endings in source and make files and shell scripts
* checking for empty or unneeded directories
* looking to see if a 'data/datalist' file should be added
* building 'CNAnorm_1.36.0.tar.gz'