Back to Multiple platform build/check report for BioC 3.12
AB[C]DEFGHIJKLMNOPQRSTUVWXYZ

CHECK report for CNAnorm on merida1

This page was generated on 2021-02-22 12:42:09 -0500 (Mon, 22 Feb 2021).

To the developers/maintainers of the CNAnorm package:
Please make sure to use the following settings in order to reproduce any error or warning you see on this page.
Package 332/1974HostnameOS / ArchINSTALLBUILDCHECKBUILD BIN
CNAnorm 1.36.0
Stefano Berri
Snapshot Date: 2021-02-21 14:52:07 -0500 (Sun, 21 Feb 2021)
URL: https://git.bioconductor.org/packages/CNAnorm
Branch: RELEASE_3_12
Last Commit: 9bfd2c4
Last Changed Date: 2020-10-27 10:43:06 -0500 (Tue, 27 Oct 2020)
malbec1Linux (Ubuntu 18.04.5 LTS) / x86_64  OK    OK    OK  UNNEEDED, same version exists in internal repository
nebbiolo1Linux (Ubuntu 20.04.2 LTS) / x86_64  OK    OK    OK  
tokay1Windows Server 2012 R2 Standard / x64  OK    OK    OK    OK  UNNEEDED, same version exists in internal repository
merida1macOS 10.14.6 Mojave / x86_64  OK    OK    OK    OK  UNNEEDED, same version exists in internal repository

Summary

Package: CNAnorm
Version: 1.36.0
Command: /Library/Frameworks/R.framework/Versions/Current/Resources/bin/R CMD check --install=check:CNAnorm.install-out.txt --library=/Library/Frameworks/R.framework/Versions/Current/Resources/library --no-vignettes --timings CNAnorm_1.36.0.tar.gz
StartedAt: 2021-02-22 00:31:43 -0500 (Mon, 22 Feb 2021)
EndedAt: 2021-02-22 00:32:54 -0500 (Mon, 22 Feb 2021)
EllapsedTime: 70.8 seconds
RetCode: 0
Status:   OK  
CheckDir: CNAnorm.Rcheck
Warnings: 0

Command output

##############################################################################
##############################################################################
###
### Running command:
###
###   /Library/Frameworks/R.framework/Versions/Current/Resources/bin/R CMD check --install=check:CNAnorm.install-out.txt --library=/Library/Frameworks/R.framework/Versions/Current/Resources/library --no-vignettes --timings CNAnorm_1.36.0.tar.gz
###
##############################################################################
##############################################################################


* using log directory ‘/Users/biocbuild/bbs-3.12-bioc/meat/CNAnorm.Rcheck’
* using R version 4.0.3 (2020-10-10)
* using platform: x86_64-apple-darwin17.0 (64-bit)
* using session charset: UTF-8
* using option ‘--no-vignettes’
* checking for file ‘CNAnorm/DESCRIPTION’ ... OK
* this is package ‘CNAnorm’ version ‘1.36.0’
* checking package namespace information ... OK
* checking package dependencies ... OK
* checking if this is a source package ... OK
* checking if there is a namespace ... OK
* checking for hidden files and directories ... OK
* checking for portable file names ... OK
* checking for sufficient/correct file permissions ... OK
* checking whether package ‘CNAnorm’ can be installed ... OK
* checking installed package size ... OK
* checking package directory ... OK
* checking ‘build’ directory ... OK
* checking DESCRIPTION meta-information ... OK
* checking top-level files ... OK
* checking for left-over files ... OK
* checking index information ... OK
* checking package subdirectories ... OK
* checking R files for non-ASCII characters ... OK
* checking R files for syntax errors ... OK
* checking whether the package can be loaded ... OK
* checking whether the package can be loaded with stated dependencies ... OK
* checking whether the package can be unloaded cleanly ... OK
* checking whether the namespace can be loaded with stated dependencies ... OK
* checking whether the namespace can be unloaded cleanly ... OK
* checking dependencies in R code ... OK
* checking S3 generic/method consistency ... OK
* checking replacement functions ... OK
* checking foreign function calls ... OK
* checking R code for possible problems ... NOTE
.OTquantileWeights: no visible global function definition for ‘median’
.OTquantileWeights: no visible global function definition for
  ‘quantile’
.TTquantileWeights: no visible global function definition for ‘median’
.TTquantileWeights: no visible global function definition for
  ‘quantile’
.exportTable: no visible global function definition for ‘write.table’
.gaussianWeights: no visible global function definition for ‘median’
.gaussianWeights: no visible global function definition for ‘sd’
.guessPeaksAndPloidy: no visible global function definition for
  ‘density’
.guessPeaksAndPloidy: no visible global function definition for
  ‘median’
.peakPloidy: no visible global function definition for ‘median’
.plotGenome: no visible global function definition for ‘text’
.plotGenome: no visible global function definition for ‘par’
.plotGenome: no visible global function definition for ‘points’
.plotGenome: no visible global function definition for ‘axis’
.plotGenome: no visible global function definition for ‘axTicks’
.plotGenome: no visible global function definition for ‘title’
.plotGenome: no visible global function definition for ‘mtext’
.plotGenome: no visible global function definition for ‘abline’
.plotGenome: no visible global function definition for ‘data’
.plotGenome: no visible global function definition for ‘lines’
.plotPeaks: no visible global function definition for ‘density’
.plotPeaks: no visible global function definition for ‘median’
.plotPeaks: no visible global function definition for ‘lines’
.plotPeaks: no visible global function definition for ‘abline’
.plotPeaks: no visible global function definition for ‘text’
.plotPeaks: no visible global function definition for ‘legend’
.plotPeaks_old: no visible global function definition for ‘median’
.plotPeaks_old: no visible global function definition for ‘lines’
.plotPeaks_old: no visible global function definition for ‘abline’
.plotPeaks_old: no visible global function definition for ‘text’
.plotPeaks_old: no visible global function definition for ‘legend’
Rcheck: no visible global function definition for ‘lm’
bandseg: no visible global function definition for ‘filter’
brute.seg: no visible global function definition for ‘median’
findOutliers: no visible global function definition for ‘median’
findOutliers: no visible global function definition for ‘density’
gcNormalize: no visible global function definition for ‘loess’
gcNormalize: no visible global function definition for ‘predict’
gcNormalize: no visible global function definition for ‘median’
get.initial.values: no visible global function definition for ‘var’
get.initial.values: no visible global function definition for
  ‘quantile’
getMQR: no visible global function definition for ‘lm’
global.norm: no visible global function definition for ‘lm’
global.norm: no visible global function definition for ‘predict’
medianWinSize: no visible global function definition for ‘median’
myDensity: no visible global function definition for ‘median’
myDensity: no visible global function definition for ‘sd’
myDensity: no visible global function definition for ‘density’
myPeaks: no visible global function definition for ‘embed’
pdetect: no visible global function definition for ‘rnorm’
pdetect: no visible global function definition for ‘density’
pdetect: no visible global function definition for ‘var’
pdetect: no visible global function definition for ‘quantile’
pdetect: no visible global function definition for ‘dnorm’
pdetect: no visible global function definition for ‘median’
pdetect.iter: no visible global function definition for ‘var’
pdetect.iter: no visible global function definition for ‘dnorm’
pdetect.iter: no visible global function definition for ‘median’
plotPeaksMixture: no visible global function definition for ‘median’
plotPeaksMixture: no visible global function definition for ‘hist’
plotPeaksMixture: no visible global function definition for ‘abline’
rseg: no visible global function definition for ‘median’
smoothseg: no visible global function definition for ‘lines’
exportTable,CNAnorm: no visible global function definition for
  ‘write.table’
peakPloidy,CNAnorm: no visible global function definition for ‘median’
plotGenome,CNAnorm: no visible global function definition for ‘text’
plotGenome,CNAnorm: no visible global function definition for ‘par’
plotGenome,CNAnorm: no visible global function definition for ‘points’
plotGenome,CNAnorm: no visible global function definition for ‘axis’
plotGenome,CNAnorm: no visible global function definition for ‘axTicks’
plotGenome,CNAnorm: no visible global function definition for ‘title’
plotGenome,CNAnorm: no visible global function definition for ‘mtext’
plotGenome,CNAnorm: no visible global function definition for ‘abline’
plotGenome,CNAnorm: no visible global function definition for ‘data’
plotGenome,CNAnorm: no visible global function definition for ‘lines’
plotPeaks,CNAnorm: no visible global function definition for ‘density’
plotPeaks,CNAnorm: no visible global function definition for ‘median’
plotPeaks,CNAnorm: no visible global function definition for ‘lines’
plotPeaks,CNAnorm: no visible global function definition for ‘abline’
plotPeaks,CNAnorm: no visible global function definition for ‘text’
plotPeaks,CNAnorm: no visible global function definition for ‘legend’
Undefined global functions or variables:
  abline axTicks axis data density dnorm embed filter hist legend lines
  lm loess median mtext par points predict quantile rnorm sd text title
  var write.table
Consider adding
  importFrom("graphics", "abline", "axTicks", "axis", "hist", "legend",
             "lines", "mtext", "par", "points", "text", "title")
  importFrom("stats", "density", "dnorm", "embed", "filter", "lm",
             "loess", "median", "predict", "quantile", "rnorm", "sd",
             "var")
  importFrom("utils", "data", "write.table")
to your NAMESPACE file.
* checking Rd files ... OK
* checking Rd metadata ... OK
* checking Rd cross-references ... OK
* checking for missing documentation entries ... OK
* checking for code/documentation mismatches ... OK
* checking Rd \usage sections ... OK
* checking Rd contents ... OK
* checking for unstated dependencies in examples ... OK
* checking contents of ‘data’ directory ... OK
* checking data for non-ASCII characters ... OK
* checking data for ASCII and uncompressed saves ... OK
* checking line endings in C/C++/Fortran sources/headers ... OK
* checking compiled code ... NOTE
Note: information on .o files is not available
* checking sizes of PDF files under ‘inst/doc’ ... OK
* checking files in ‘vignettes’ ... OK
* checking examples ... OK
Examples with CPU (user + system) or elapsed time > 5s
             user system elapsed
peakPloidy 18.365  0.476  18.907
* checking for unstated dependencies in vignettes ... OK
* checking package vignettes in ‘inst/doc’ ... OK
* checking running R code from vignettes ... SKIPPED
* checking re-building of vignette outputs ... SKIPPED
* checking PDF version of manual ... OK
* DONE

Status: 2 NOTEs
See
  ‘/Users/biocbuild/bbs-3.12-bioc/meat/CNAnorm.Rcheck/00check.log’
for details.



Installation output

CNAnorm.Rcheck/00install.out

##############################################################################
##############################################################################
###
### Running command:
###
###   /Library/Frameworks/R.framework/Versions/Current/Resources/bin/R CMD INSTALL CNAnorm
###
##############################################################################
##############################################################################


* installing to library ‘/Library/Frameworks/R.framework/Versions/4.0/Resources/library’
* installing *source* package ‘CNAnorm’ ...
** using staged installation
** libs
gfortran -mmacosx-version-min=10.13 -fno-optimize-sibling-calls  -fPIC  -Wall -g -O2  -c daxpy.f -o daxpy.o
gfortran -mmacosx-version-min=10.13 -fno-optimize-sibling-calls  -fPIC  -Wall -g -O2  -c ddot.f -o ddot.o
gfortran -mmacosx-version-min=10.13 -fno-optimize-sibling-calls  -fPIC  -Wall -g -O2  -c dgbfa.f -o dgbfa.o
gfortran -mmacosx-version-min=10.13 -fno-optimize-sibling-calls  -fPIC  -Wall -g -O2  -c dgbsl.f -o dgbsl.o
gfortran -mmacosx-version-min=10.13 -fno-optimize-sibling-calls  -fPIC  -Wall -g -O2  -c dscal.f -o dscal.o
gfortran -mmacosx-version-min=10.13 -fno-optimize-sibling-calls  -fPIC  -Wall -g -O2  -c dsmooth.f -o dsmooth.o
f951: Warning: Nonconforming tab character in column 1 of line 14 [-Wtabs]
f951: Warning: Nonconforming tab character in column 1 of line 15 [-Wtabs]
f951: Warning: Nonconforming tab character in column 1 of line 16 [-Wtabs]
f951: Warning: Nonconforming tab character in column 1 of line 17 [-Wtabs]
f951: Warning: Nonconforming tab character in column 1 of line 18 [-Wtabs]
f951: Warning: Nonconforming tab character in column 1 of line 19 [-Wtabs]
f951: Warning: Nonconforming tab character in column 1 of line 20 [-Wtabs]
f951: Warning: Nonconforming tab character in column 1 of line 21 [-Wtabs]
f951: Warning: Nonconforming tab character in column 1 of line 22 [-Wtabs]
f951: Warning: Nonconforming tab character in column 3 of line 23 [-Wtabs]
f951: Warning: Nonconforming tab character in column 1 of line 24 [-Wtabs]
f951: Warning: Nonconforming tab character in column 1 of line 25 [-Wtabs]
f951: Warning: Nonconforming tab character in column 1 of line 26 [-Wtabs]
f951: Warning: Nonconforming tab character in column 1 of line 27 [-Wtabs]
f951: Warning: Nonconforming tab character in column 1 of line 28 [-Wtabs]
f951: Warning: Nonconforming tab character in column 1 of line 29 [-Wtabs]
f951: Warning: Nonconforming tab character in column 1 of line 30 [-Wtabs]
f951: Warning: Nonconforming tab character in column 1 of line 31 [-Wtabs]
f951: Warning: Nonconforming tab character in column 2 of line 32 [-Wtabs]
f951: Warning: Nonconforming tab character in column 1 of line 33 [-Wtabs]
f951: Warning: Nonconforming tab character in column 1 of line 34 [-Wtabs]
f951: Warning: Nonconforming tab character in column 1 of line 35 [-Wtabs]
f951: Warning: Nonconforming tab character in column 3 of line 36 [-Wtabs]
f951: Warning: Nonconforming tab character in column 1 of line 37 [-Wtabs]
f951: Warning: Nonconforming tab character in column 1 of line 38 [-Wtabs]
f951: Warning: Nonconforming tab character in column 3 of line 39 [-Wtabs]
f951: Warning: Nonconforming tab character in column 1 of line 40 [-Wtabs]
f951: Warning: Nonconforming tab character in column 1 of line 41 [-Wtabs]
f951: Warning: Nonconforming tab character in column 1 of line 42 [-Wtabs]
f951: Warning: Nonconforming tab character in column 4 of line 43 [-Wtabs]
f951: Warning: Nonconforming tab character in column 1 of line 44 [-Wtabs]
f951: Warning: Nonconforming tab character in column 1 of line 45 [-Wtabs]
f951: Warning: Nonconforming tab character in column 1 of line 46 [-Wtabs]
f951: Warning: Nonconforming tab character in column 1 of line 47 [-Wtabs]
f951: Warning: Nonconforming tab character in column 1 of line 48 [-Wtabs]
f951: Warning: Nonconforming tab character in column 1 of line 50 [-Wtabs]
f951: Warning: Nonconforming tab character in column 1 of line 51 [-Wtabs]
f951: Warning: Nonconforming tab character in column 1 of line 52 [-Wtabs]
f951: Warning: Nonconforming tab character in column 1 of line 53 [-Wtabs]
f951: Warning: Nonconforming tab character in column 1 of line 54 [-Wtabs]
f951: Warning: Nonconforming tab character in column 1 of line 55 [-Wtabs]
f951: Warning: Nonconforming tab character in column 1 of line 56 [-Wtabs]
f951: Warning: Nonconforming tab character in column 1 of line 57 [-Wtabs]
f951: Warning: Nonconforming tab character in column 1 of line 58 [-Wtabs]
f951: Warning: Nonconforming tab character in column 1 of line 59 [-Wtabs]
f951: Warning: Nonconforming tab character in column 1 of line 60 [-Wtabs]
f951: Warning: Nonconforming tab character in column 1 of line 61 [-Wtabs]
f951: Warning: Nonconforming tab character in column 1 of line 62 [-Wtabs]
f951: Warning: Nonconforming tab character in column 1 of line 63 [-Wtabs]
f951: Warning: Nonconforming tab character in column 3 of line 64 [-Wtabs]
f951: Warning: Nonconforming tab character in column 1 of line 65 [-Wtabs]
f951: Warning: Nonconforming tab character in column 1 of line 66 [-Wtabs]
f951: Warning: Nonconforming tab character in column 3 of line 67 [-Wtabs]
f951: Warning: Nonconforming tab character in column 1 of line 68 [-Wtabs]
f951: Warning: Nonconforming tab character in column 1 of line 69 [-Wtabs]
f951: Warning: Nonconforming tab character in column 3 of line 71 [-Wtabs]
f951: Warning: Nonconforming tab character in column 1 of line 72 [-Wtabs]
f951: Warning: Nonconforming tab character in column 1 of line 73 [-Wtabs]
f951: Warning: Nonconforming tab character in column 3 of line 74 [-Wtabs]
f951: Warning: Nonconforming tab character in column 1 of line 75 [-Wtabs]
f951: Warning: Nonconforming tab character in column 1 of line 76 [-Wtabs]
f951: Warning: Nonconforming tab character in column 1 of line 77 [-Wtabs]
f951: Warning: Nonconforming tab character in column 1 of line 78 [-Wtabs]
f951: Warning: Nonconforming tab character in column 1 of line 79 [-Wtabs]
f951: Warning: Nonconforming tab character in column 3 of line 80 [-Wtabs]
f951: Warning: Nonconforming tab character in column 1 of line 81 [-Wtabs]
f951: Warning: Nonconforming tab character in column 1 of line 82 [-Wtabs]
f951: Warning: Nonconforming tab character in column 3 of line 83 [-Wtabs]
f951: Warning: Nonconforming tab character in column 1 of line 84 [-Wtabs]
f951: Warning: Nonconforming tab character in column 1 of line 85 [-Wtabs]
f951: Warning: Nonconforming tab character in column 1 of line 87 [-Wtabs]
f951: Warning: Nonconforming tab character in column 1 of line 88 [-Wtabs]
f951: Warning: Nonconforming tab character in column 1 of line 89 [-Wtabs]
f951: Warning: Nonconforming tab character in column 1 of line 90 [-Wtabs]
f951: Warning: Nonconforming tab character in column 3 of line 91 [-Wtabs]
f951: Warning: Nonconforming tab character in column 1 of line 92 [-Wtabs]
f951: Warning: Nonconforming tab character in column 1 of line 93 [-Wtabs]
f951: Warning: Nonconforming tab character in column 3 of line 94 [-Wtabs]
f951: Warning: Nonconforming tab character in column 1 of line 95 [-Wtabs]
f951: Warning: Nonconforming tab character in column 1 of line 96 [-Wtabs]
dsmooth.f:62:20:

  do 10 i=1,n-1
                    1
Warning: Nonconforming tab character at (1) [-Wtabs]
dsmooth.f:70:7:

      &       diff(i-1)*diff(i+1) .lt. 0.) isplit(i)=1
       1
Warning: Nonconforming tab character at (1) [-Wtabs]
dsmooth.f:50:0:

  function amed3(a,b,c)
 
Warning: ‘__result_amed3’ may be used uninitialized in this function [-Wmaybe-uninitialized]
gfortran -mmacosx-version-min=10.13 -fno-optimize-sibling-calls  -fPIC  -Wall -g -O2  -c idamax.f -o idamax.o
clang -mmacosx-version-min=10.13 -dynamiclib -Wl,-headerpad_max_install_names -undefined dynamic_lookup -single_module -multiply_defined suppress -L/Library/Frameworks/R.framework/Resources/lib -L/usr/local/lib -o CNAnorm.so daxpy.o ddot.o dgbfa.o dgbsl.o dscal.o dsmooth.o idamax.o -L/usr/local/gfortran/lib/gcc/x86_64-apple-darwin18/8.2.0 -L/usr/local/gfortran/lib -lgfortran -lquadmath -lm -F/Library/Frameworks/R.framework/.. -framework R -Wl,-framework -Wl,CoreFoundation
installing to /Library/Frameworks/R.framework/Versions/4.0/Resources/library/00LOCK-CNAnorm/00new/CNAnorm/libs
** R
** data
** inst
** byte-compile and prepare package for lazy loading
** help
*** installing help indices
** building package indices
** installing vignettes
** testing if installed package can be loaded from temporary location
** checking absolute paths in shared objects and dynamic libraries
** testing if installed package can be loaded from final location
** testing if installed package keeps a record of temporary installation path
* DONE (CNAnorm)

Tests output


Example timings

CNAnorm.Rcheck/CNAnorm-Ex.timings

nameusersystemelapsed
CNAnorm-class0.0240.0060.029
DerivData-class0.0050.0020.008
InData-class0.0040.0010.005
Params-class0.0050.0020.008
addDNACopy-methods0.9600.0130.975
addSmooth-methods0.5310.0170.548
chrsAndpos-methods0.0280.0060.034
dataFrame2object0.0030.0010.004
discreteNorm-methods0.0210.0030.023
exportTable-method0.1630.0090.173
gcNorm-methods0.4730.0030.477
peakPloidy18.365 0.47618.907
plotGenome-methods1.1310.0181.150
plotPeaks-methods0.2140.0050.219
ratio-methods0.4650.0030.468
suggValid-methods0.0150.0020.017
validation-methods0.0120.0010.013
workflowWrapper1.1150.0141.131