Name | Last modified | Size | Description | |
---|---|---|---|---|
Parent Directory | - | |||
install-out.txt | 15-Jun-2024 03:37 | 940 | ||
install-summary.dcf | 15-Jun-2024 03:37 | 251 | ||
buildsrc-out.txt | 15-Jun-2024 03:37 | 853 | ||
buildsrc-summary.dcf | 15-Jun-2024 03:37 | 405 | ||
checksrc-summary.dcf | 15-Jun-2024 03:37 | 397 | ||
checksrc-out.txt | 15-Jun-2024 03:37 | 9.8K | ||