Name | Last modified | Size | Description | |
---|---|---|---|---|
Parent Directory | - | |||
checksrc-out.txt | 12-Jun-2024 03:43 | 9.9K | ||
buildbin-out.txt | 12-Jun-2024 03:43 | 1.1K | ||
install-out.txt | 12-Jun-2024 03:43 | 1.0K | ||
buildsrc-out.txt | 12-Jun-2024 03:43 | 863 | ||
buildbin-summary.dcf | 12-Jun-2024 03:43 | 506 | ||
checksrc-summary.dcf | 12-Jun-2024 03:43 | 428 | ||
buildsrc-summary.dcf | 12-Jun-2024 03:43 | 414 | ||
install-summary.dcf | 12-Jun-2024 03:43 | 261 | ||