Name | Last modified | Size | Description | |
---|---|---|---|---|
Parent Directory | - | |||
buildbin-summary.dcf | 17-Jul-2024 06:42 | 524 | ||
buildbin-out.txt | 17-Jul-2024 06:42 | 1.2K | ||
checksrc-out.txt | 17-Jul-2024 06:42 | 4.5K | ||
checksrc-summary.dcf | 17-Jul-2024 06:42 | 446 | ||
buildsrc-summary.dcf | 17-Jul-2024 06:42 | 425 | ||
buildsrc-out.txt | 17-Jul-2024 06:42 | 812 | ||
install-summary.dcf | 17-Jul-2024 06:42 | 267 | ||
install-out.txt | 17-Jul-2024 06:42 | 1.0K | ||