Index of /checkResults/release/bioc-LATEST/CHRONOS/raw-results/kunpeng2
Name
Last modified
Size
Description
Parent Directory
-
buildsrc-out.txt
05-May-2024 00:40
711
buildsrc-summary.dcf
05-May-2024 00:40
345
install-out.txt
05-May-2024 00:40
1.0K
install-summary.dcf
05-May-2024 00:40
270