Back to Multiple platform build/check report for BioC 3.12
AB[C]DEFGHIJKLMNOPQRSTUVWXYZ

INSTALL report for CGHnormaliter on merida1

This page was generated on 2021-02-22 12:42:05 -0500 (Mon, 22 Feb 2021).

To the developers/maintainers of the CGHnormaliter package:
Please make sure to use the following settings in order to reproduce any error or warning you see on this page.
Package 271/1974HostnameOS / ArchINSTALLBUILDCHECKBUILD BIN
CGHnormaliter 1.44.0
Bart P.P. van Houte
Snapshot Date: 2021-02-21 14:52:07 -0500 (Sun, 21 Feb 2021)
URL: https://git.bioconductor.org/packages/CGHnormaliter
Branch: RELEASE_3_12
Last Commit: 8b920f6
Last Changed Date: 2020-10-27 10:36:33 -0500 (Tue, 27 Oct 2020)
malbec1Linux (Ubuntu 18.04.5 LTS) / x86_64  OK    OK    OK  UNNEEDED, same version exists in internal repository
nebbiolo1Linux (Ubuntu 20.04.2 LTS) / x86_64  OK    OK    OK  
tokay1Windows Server 2012 R2 Standard / x64  OK    OK    OK    OK  UNNEEDED, same version exists in internal repository
merida1macOS 10.14.6 Mojave / x86_64  OK    OK    OK    OK  UNNEEDED, same version exists in internal repository

Summary

Package: CGHnormaliter
Version: 1.44.0
Command: /Library/Frameworks/R.framework/Versions/Current/Resources/bin/R CMD INSTALL CGHnormaliter
StartedAt: 2021-02-21 16:41:46 -0500 (Sun, 21 Feb 2021)
EndedAt: 2021-02-21 16:42:36 -0500 (Sun, 21 Feb 2021)
EllapsedTime: 50.2 seconds
RetCode: 0
Status:   OK  

Command output

##############################################################################
##############################################################################
###
### Running command:
###
###   /Library/Frameworks/R.framework/Versions/Current/Resources/bin/R CMD INSTALL CGHnormaliter
###
##############################################################################
##############################################################################


* installing to library ‘/Library/Frameworks/R.framework/Versions/4.0/Resources/library’
* installing *source* package ‘CGHnormaliter’ ...
** using staged installation
** R
** data
** byte-compile and prepare package for lazy loading
** help
*** installing help indices
** building package indices
** installing vignettes
** testing if installed package can be loaded from temporary location
** testing if installed package can be loaded from final location
** testing if installed package keeps a record of temporary installation path
* DONE (CGHnormaliter)