Back to Multiple platform build/check report for BioC 3.12 |
|
This page was generated on 2021-01-19 11:54:54 -0500 (Tue, 19 Jan 2021).
TO THE DEVELOPERS/MAINTAINERS OF THE CGHcall PACKAGE: Please make sure to use the following settings in order to reproduce any error or warning you see on this page. |
Package 269/1974 | Hostname | OS / Arch | INSTALL | BUILD | CHECK | BUILD BIN | ||||||
CGHcall 2.52.0 Mark van de Wiel
| malbec1 | Linux (Ubuntu 18.04.5 LTS) / x86_64 | OK | OK | OK | ![]() | ||||||
nebbiolo1 | Linux (Ubuntu 20.04.1 LTS) / x86_64 | OK | OK | OK | ||||||||
tokay1 | Windows Server 2012 R2 Standard / x64 | [ OK ] | OK | OK | OK | ![]() | ||||||
merida1 | macOS 10.14.6 Mojave / x86_64 | OK | OK | OK | OK | ![]() |
Package: CGHcall |
Version: 2.52.0 |
Command: C:\cygwin\bin\curl.exe -O https://malbec1.bioconductor.org/BBS/3.12/bioc/src/contrib/CGHcall_2.52.0.tar.gz && rm -rf CGHcall.buildbin-libdir && mkdir CGHcall.buildbin-libdir && C:\Users\biocbuild\bbs-3.12-bioc\R\bin\R.exe CMD INSTALL --merge-multiarch --build --library=CGHcall.buildbin-libdir CGHcall_2.52.0.tar.gz && C:\Users\biocbuild\bbs-3.12-bioc\R\bin\R.exe CMD INSTALL CGHcall_2.52.0.zip && rm CGHcall_2.52.0.tar.gz CGHcall_2.52.0.zip |
StartedAt: 2021-01-18 17:23:52 -0500 (Mon, 18 Jan 2021) |
EndedAt: 2021-01-18 17:24:15 -0500 (Mon, 18 Jan 2021) |
EllapsedTime: 23.5 seconds |
RetCode: 0 |
Status: OK |
############################################################################## ############################################################################## ### ### Running command: ### ### C:\cygwin\bin\curl.exe -O https://malbec1.bioconductor.org/BBS/3.12/bioc/src/contrib/CGHcall_2.52.0.tar.gz && rm -rf CGHcall.buildbin-libdir && mkdir CGHcall.buildbin-libdir && C:\Users\biocbuild\bbs-3.12-bioc\R\bin\R.exe CMD INSTALL --merge-multiarch --build --library=CGHcall.buildbin-libdir CGHcall_2.52.0.tar.gz && C:\Users\biocbuild\bbs-3.12-bioc\R\bin\R.exe CMD INSTALL CGHcall_2.52.0.zip && rm CGHcall_2.52.0.tar.gz CGHcall_2.52.0.zip ### ############################################################################## ############################################################################## % Total % Received % Xferd Average Speed Time Time Time Current Dload Upload Total Spent Left Speed 0 0 0 0 0 0 0 0 --:--:-- --:--:-- --:--:-- 0 100 177k 100 177k 0 0 1170k 0 --:--:-- --:--:-- --:--:-- 1200k install for i386 * installing *source* package 'CGHcall' ... ** using staged installation ** R ** data ** byte-compile and prepare package for lazy loading ** help *** installing help indices converting help for package 'CGHcall' finding HTML links ... done CGHcall-package html CGHcall html finding level-2 HTML links ... done ExpandCGHcall html Wilting html normalize html postsegnormalize html preprocess html segmentData html ** building package indices ** installing vignettes ** testing if installed package can be loaded from temporary location ** testing if installed package can be loaded from final location ** testing if installed package keeps a record of temporary installation path install for x64 * installing *source* package 'CGHcall' ... ** testing if installed package can be loaded * MD5 sums packaged installation of 'CGHcall' as CGHcall_2.52.0.zip * DONE (CGHcall) * installing to library 'C:/Users/biocbuild/bbs-3.12-bioc/R/library' package 'CGHcall' successfully unpacked and MD5 sums checked