Back to Multiple platform build/check report for BioC 3.18:   simplified   long
AB[C]DEFGHIJKLMNOPQRSTUVWXYZ

This page was generated on 2024-03-01 11:35:50 -0500 (Fri, 01 Mar 2024).

HostnameOSArch (*)R versionInstalled pkgs
nebbiolo2Linux (Ubuntu 22.04.3 LTS)x86_644.3.2 Patched (2023-11-13 r85521) -- "Eye Holes" 4692
palomino4Windows Server 2022 Datacenterx644.3.2 (2023-10-31 ucrt) -- "Eye Holes" 4445
lconwaymacOS 12.7.1 Montereyx86_644.3.2 Patched (2023-11-01 r85457) -- "Eye Holes" 4466
Click on any hostname to see more info about the system (e.g. compilers)      (*) as reported by 'uname -p', except on Windows and Mac OS X

Package 317/2266HostnameOS / ArchINSTALLBUILDCHECKBUILD BIN
CGHbase 1.62.0  (landing page)
Mark van de Wiel
Snapshot Date: 2024-02-29 14:05:06 -0500 (Thu, 29 Feb 2024)
git_url: https://git.bioconductor.org/packages/CGHbase
git_branch: RELEASE_3_18
git_last_commit: 5363887
git_last_commit_date: 2023-10-24 09:39:54 -0500 (Tue, 24 Oct 2023)
nebbiolo2Linux (Ubuntu 22.04.3 LTS) / x86_64  OK    OK    OK  UNNEEDED, same version is already published
palomino4Windows Server 2022 Datacenter / x64  OK    OK    OK    OK  UNNEEDED, same version is already published
lconwaymacOS 12.7.1 Monterey / x86_64  OK    OK    OK    OK  UNNEEDED, same version is already published
kjohnson1macOS 13.6.1 Ventura / arm64see weekly results here

CHECK results for CGHbase on nebbiolo2


To the developers/maintainers of the CGHbase package:
- Allow up to 24 hours (and sometimes 48 hours) for your latest push to git@git.bioconductor.org:packages/CGHbase.git to reflect on this report. See Troubleshooting Build Report for more information.
- Use the following Renviron settings to reproduce errors and warnings.
- If 'R CMD check' started to fail recently on the Linux builder(s) over a missing dependency, add the missing dependency to 'Suggests:' in your DESCRIPTION file. See Renviron.bioc for more information.

raw results


Summary

Package: CGHbase
Version: 1.62.0
Command: /home/biocbuild/bbs-3.18-bioc/R/bin/R CMD check --install=check:CGHbase.install-out.txt --library=/home/biocbuild/bbs-3.18-bioc/R/site-library --timings CGHbase_1.62.0.tar.gz
StartedAt: 2024-02-29 20:51:41 -0500 (Thu, 29 Feb 2024)
EndedAt: 2024-02-29 20:52:16 -0500 (Thu, 29 Feb 2024)
EllapsedTime: 34.4 seconds
RetCode: 0
Status:   OK  
CheckDir: CGHbase.Rcheck
Warnings: 0

Command output

##############################################################################
##############################################################################
###
### Running command:
###
###   /home/biocbuild/bbs-3.18-bioc/R/bin/R CMD check --install=check:CGHbase.install-out.txt --library=/home/biocbuild/bbs-3.18-bioc/R/site-library --timings CGHbase_1.62.0.tar.gz
###
##############################################################################
##############################################################################


* using log directory ‘/home/biocbuild/bbs-3.18-bioc/meat/CGHbase.Rcheck’
* using R version 4.3.2 Patched (2023-11-13 r85521)
* using platform: x86_64-pc-linux-gnu (64-bit)
* R was compiled by
    gcc (Ubuntu 11.4.0-1ubuntu1~22.04) 11.4.0
    GNU Fortran (Ubuntu 11.4.0-1ubuntu1~22.04) 11.4.0
* running under: Ubuntu 22.04.3 LTS
* using session charset: UTF-8
* checking for file ‘CGHbase/DESCRIPTION’ ... OK
* checking extension type ... Package
* this is package ‘CGHbase’ version ‘1.62.0’
* checking package namespace information ... OK
* checking package dependencies ... OK
* checking if this is a source package ... OK
* checking if there is a namespace ... OK
* checking for hidden files and directories ... OK
* checking for portable file names ... OK
* checking for sufficient/correct file permissions ... OK
* checking whether package ‘CGHbase’ can be installed ... OK
* checking installed package size ... OK
* checking package directory ... OK
* checking DESCRIPTION meta-information ... NOTE
Malformed Title field: should not end in a period.
* checking top-level files ... OK
* checking for left-over files ... OK
* checking index information ... OK
* checking package subdirectories ... OK
* checking R files for non-ASCII characters ... OK
* checking R files for syntax errors ... OK
* checking whether the package can be loaded ... OK
* checking whether the package can be loaded with stated dependencies ... OK
* checking whether the package can be unloaded cleanly ... OK
* checking whether the namespace can be loaded with stated dependencies ... OK
* checking whether the namespace can be unloaded cleanly ... OK
* checking loading without being on the library search path ... OK
* checking dependencies in R code ... NOTE
Package in Depends field not imported from: ‘methods’
  These packages need to be imported from (in the NAMESPACE file)
  for when this namespace is loaded but not attached.
':::' call which should be '::': ‘Biobase:::assayDataElement’
  See the note in ?`:::` about the use of this operator.
Unexported object imported by a ':::' call: ‘Biobase:::assayDataDims’
  See the note in ?`:::` about the use of this operator.
* checking S3 generic/method consistency ... OK
* checking replacement functions ... OK
* checking foreign function calls ... OK
* checking R code for possible problems ... NOTE
.makeEmptyFeatureData: no visible global function definition for ‘is’
.makeEmptyFeatureData: no visible global function definition for ‘new’
.makeEmptyFeatureDataForRegions: no visible global function definition
  for ‘is’
.makeEmptyFeatureDataForRegions: no visible global function definition
  for ‘new’
frequencyPlotCalls: no visible global function definition for ‘rect’
frequencyPlotCalls: no visible global function definition for ‘box’
frequencyPlotCalls: no visible global function definition for ‘abline’
frequencyPlotCalls: no visible global function definition for ‘axis’
frequencyPlotCalls: no visible global function definition for ‘mtext’
frequencyPlotCalls: no visible global function definition for ‘median’
make_cghRaw: no visible global function definition for ‘read.table’
make_cghRaw: no visible global function definition for ‘new’
summaryPlot: no visible global function definition for ‘rect’
summaryPlot: no visible global function definition for ‘box’
summaryPlot: no visible global function definition for ‘abline’
summaryPlot: no visible global function definition for ‘axis’
summaryPlot: no visible global function definition for ‘mtext’
summaryPlot: no visible global function definition for ‘median’
frequencyPlot,cghRegions-missing: no visible global function definition
  for ‘par’
frequencyPlot,cghRegions-missing: no visible global function definition
  for ‘barplot’
frequencyPlot,cghRegions-missing: no visible global function definition
  for ‘segments’
frequencyPlot,cghRegions-missing: no visible global function definition
  for ‘gray’
frequencyPlot,cghRegions-missing: no visible global function definition
  for ‘box’
frequencyPlot,cghRegions-missing: no visible global function definition
  for ‘axis’
initialize,cghCall: no visible global function definition for ‘new’
initialize,cghCall: no visible global function definition for
  ‘callNextMethod’
initialize,cghRaw: no visible global function definition for ‘new’
initialize,cghRaw: no visible global function definition for
  ‘callNextMethod’
initialize,cghRegions: no visible global function definition for ‘new’
initialize,cghRegions: no visible global function definition for
  ‘callNextMethod’
initialize,cghSeg: no visible global function definition for ‘new’
initialize,cghSeg: no visible global function definition for
  ‘callNextMethod’
plot.cghRegions,cghRegions-missing: no visible global function
  definition for ‘layout’
plot.cghRegions,cghRegions-missing: no visible global function
  definition for ‘par’
plot.cghRegions,cghRegions-missing: no visible global function
  definition for ‘segments’
plot.cghRegions,cghRegions-missing: no visible global function
  definition for ‘axis’
plot,cghCall-missing: no visible global function definition for ‘par’
plot,cghCall-missing: no visible global function definition for ‘rect’
plot,cghCall-missing: no visible global function definition for ‘axis’
plot,cghCall-missing: no visible global function definition for ‘box’
plot,cghCall-missing: no visible global function definition for
  ‘abline’
plot,cghCall-missing: no visible global function definition for ‘mtext’
plot,cghCall-missing: no visible global function definition for ‘title’
plot,cghCall-missing: no visible global function definition for
  ‘segments’
plot,cghCall-missing: no visible global function definition for
  ‘median’
plot,cghCall-missing : <anonymous>: no visible global function
  definition for ‘mad’
plot,cghRaw-missing: no visible global function definition for ‘mtext’
plot,cghRaw-missing: no visible global function definition for ‘abline’
plot,cghRaw-missing: no visible global function definition for ‘axis’
plot,cghRaw-missing: no visible global function definition for ‘median’
plot,cghRaw-missing : <anonymous>: no visible global function
  definition for ‘mad’
plot,cghSeg-missing: no visible global function definition for ‘mtext’
plot,cghSeg-missing: no visible global function definition for ‘abline’
plot,cghSeg-missing: no visible global function definition for ‘axis’
plot,cghSeg-missing: no visible global function definition for
  ‘segments’
plot,cghSeg-missing: no visible global function definition for ‘median’
plot,cghSeg-missing : <anonymous>: no visible global function
  definition for ‘mad’
Undefined global functions or variables:
  abline axis barplot box callNextMethod gray is layout mad median
  mtext new par read.table rect segments title
Consider adding
  importFrom("grDevices", "gray")
  importFrom("graphics", "abline", "axis", "barplot", "box", "layout",
             "mtext", "par", "rect", "segments", "title")
  importFrom("methods", "callNextMethod", "is", "new")
  importFrom("stats", "mad", "median")
  importFrom("utils", "read.table")
to your NAMESPACE file (and ensure that your DESCRIPTION Imports field
contains 'methods').
* checking Rd files ... OK
* checking Rd metadata ... OK
* checking Rd cross-references ... OK
* checking for missing documentation entries ... OK
* checking for code/documentation mismatches ... OK
* checking Rd \usage sections ... OK
* checking Rd contents ... OK
* checking for unstated dependencies in examples ... OK
* checking contents of ‘data’ directory ... OK
* checking data for non-ASCII characters ... OK
* checking data for ASCII and uncompressed saves ... OK
* checking examples ... OK
* checking PDF version of manual ... OK
* DONE

Status: 3 NOTEs
See
  ‘/home/biocbuild/bbs-3.18-bioc/meat/CGHbase.Rcheck/00check.log’
for details.



Installation output

CGHbase.Rcheck/00install.out

##############################################################################
##############################################################################
###
### Running command:
###
###   /home/biocbuild/bbs-3.18-bioc/R/bin/R CMD INSTALL CGHbase
###
##############################################################################
##############################################################################


* installing to library ‘/home/biocbuild/bbs-3.18-bioc/R/site-library’
* installing *source* package ‘CGHbase’ ...
** using staged installation
** R
** data
** byte-compile and prepare package for lazy loading
** help
*** installing help indices
** building package indices
** testing if installed package can be loaded from temporary location
** testing if installed package can be loaded from final location
** testing if installed package keeps a record of temporary installation path
* DONE (CGHbase)

Tests output


Example timings

CGHbase.Rcheck/CGHbase-Ex.timings

nameusersystemelapsed
class.cghCall0.0560.0000.056
class.cghRaw0.2460.0070.255
class.cghRegions0.1710.0010.171
class.cghSeg0.0250.0000.025
copynumber0.0330.0000.032
frequencyPlot000
frequencyPlotCalls000
make_cghRaw0.0480.0000.048
summaryPlot000