Back to Multiple platform build/check report for BioC 3.12
AB[C]DEFGHIJKLMNOPQRSTUVWXYZ

BUILD BIN report for CGHbase on merida1

This page was generated on 2021-01-19 11:57:05 -0500 (Tue, 19 Jan 2021).

TO THE DEVELOPERS/MAINTAINERS OF THE CGHbase PACKAGE: Please make sure to use the following settings in order to reproduce any error or warning you see on this page.
Package 268/1974HostnameOS / ArchINSTALLBUILDCHECKBUILD BIN
CGHbase 1.50.0
Mark van de Wiel
Snapshot Date: 2021-01-18 14:42:24 -0500 (Mon, 18 Jan 2021)
URL: https://git.bioconductor.org/packages/CGHbase
Branch: RELEASE_3_12
Last Commit: c783181
Last Changed Date: 2020-10-27 10:33:32 -0500 (Tue, 27 Oct 2020)
malbec1 Linux (Ubuntu 18.04.5 LTS) / x86_64  OK  OK  OK UNNEEDED, same version exists in internal repository
nebbiolo1 Linux (Ubuntu 20.04.1 LTS) / x86_64  OK  OK  OK 
tokay1 Windows Server 2012 R2 Standard / x64  OK  OK  WARNINGS  OK UNNEEDED, same version exists in internal repository
merida1 macOS 10.14.6 Mojave / x86_64  OK  OK  OK [ OK ]UNNEEDED, same version exists in internal repository

Summary

Package: CGHbase
Version: 1.50.0
Command: rm -rf CGHbase.buildbin-libdir && mkdir CGHbase.buildbin-libdir && /Users/biocbuild/BBS/utils/build-universal.sh CGHbase_1.50.0.tar.gz /Library/Frameworks/R.framework/Versions/Current/Resources/bin/R CGHbase.buildbin-libdir
StartedAt: 2021-01-19 08:04:28 -0500 (Tue, 19 Jan 2021)
EndedAt: 2021-01-19 08:05:36 -0500 (Tue, 19 Jan 2021)
EllapsedTime: 68.0 seconds
RetCode: 0
Status:  OK 
PackageFile: CGHbase_1.50.0.tgz
PackageFileSize: 1.046 MiB

Command output

##############################################################################
##############################################################################
###
### Running command:
###
###   rm -rf CGHbase.buildbin-libdir && mkdir CGHbase.buildbin-libdir && /Users/biocbuild/BBS/utils/build-universal.sh CGHbase_1.50.0.tar.gz /Library/Frameworks/R.framework/Versions/Current/Resources/bin/R CGHbase.buildbin-libdir
###
##############################################################################
##############################################################################


>>>>>>> 
>>>>>>> INSTALLATION WITH 'R CMD INSTALL --preclean --no-multiarch --library=CGHbase.buildbin-libdir CGHbase_1.50.0.tar.gz'
>>>>>>> 

* installing *source* package ‘CGHbase’ ...
** using staged installation
** R
** data
** byte-compile and prepare package for lazy loading
** help
*** installing help indices
** building package indices
** testing if installed package can be loaded from temporary location
** testing if installed package can be loaded from final location
** testing if installed package keeps a record of temporary installation path
* DONE (CGHbase)