Name | Last modified | Size | Description | |
---|---|---|---|---|
Parent Directory | - | |||
install-summary.dcf | 10-Jul-2024 06:42 | 268 | ||
install-out.txt | 10-Jul-2024 06:42 | 1.0K | ||
checksrc-summary.dcf | 10-Jul-2024 06:42 | 443 | ||
checksrc-out.txt | 10-Jul-2024 06:42 | 7.5K | ||
buildsrc-summary.dcf | 10-Jul-2024 06:42 | 427 | ||
buildsrc-out.txt | 10-Jul-2024 06:42 | 816 | ||
buildbin-summary.dcf | 10-Jul-2024 06:42 | 529 | ||
buildbin-out.txt | 10-Jul-2024 06:42 | 1.1K | ||