Name | Last modified | Size | Description | |
---|---|---|---|---|
Parent Directory | - | |||
install-summary.dcf | 12-Jun-2024 03:42 | 262 | ||
install-out.txt | 12-Jun-2024 03:42 | 2.1K | ||
checksrc-summary.dcf | 12-Jun-2024 03:42 | 430 | ||
checksrc-out.txt | 12-Jun-2024 03:42 | 4.0K | ||
buildsrc-summary.dcf | 12-Jun-2024 03:42 | 416 | ||
buildsrc-out.txt | 12-Jun-2024 03:42 | 896 | ||
buildbin-summary.dcf | 12-Jun-2024 03:42 | 509 | ||
buildbin-out.txt | 12-Jun-2024 03:42 | 4.1K | ||