Back to Multiple platform build/check report for BioC 3.18: simplified long |
|
This page was generated on 2024-03-29 11:35:49 -0400 (Fri, 29 Mar 2024).
Hostname | OS | Arch (*) | R version | Installed pkgs |
---|---|---|---|---|
nebbiolo2 | Linux (Ubuntu 22.04.3 LTS) | x86_64 | 4.3.3 (2024-02-29) -- "Angel Food Cake" | 4669 |
palomino4 | Windows Server 2022 Datacenter | x64 | 4.3.3 (2024-02-29 ucrt) -- "Angel Food Cake" | 4404 |
merida1 | macOS 12.7.1 Monterey | x86_64 | 4.3.3 (2024-02-29) -- "Angel Food Cake" | 4427 |
Click on any hostname to see more info about the system (e.g. compilers) (*) as reported by 'uname -p', except on Windows and Mac OS X |
Package 259/2266 | Hostname | OS / Arch | INSTALL | BUILD | CHECK | BUILD BIN | ||||||||
CAGEfightR 1.22.0 (landing page) Malte Thodberg
| nebbiolo2 | Linux (Ubuntu 22.04.3 LTS) / x86_64 | OK | OK | OK | |||||||||
palomino4 | Windows Server 2022 Datacenter / x64 | OK | OK | OK | OK | |||||||||
merida1 | macOS 12.7.1 Monterey / x86_64 | OK | OK | OK | OK | |||||||||
kjohnson1 | macOS 13.6.1 Ventura / arm64 | see weekly results here | ||||||||||||
To the developers/maintainers of the CAGEfightR package: - Allow up to 24 hours (and sometimes 48 hours) for your latest push to git@git.bioconductor.org:packages/CAGEfightR.git to reflect on this report. See Troubleshooting Build Report for more information. - Use the following Renviron settings to reproduce errors and warnings. - If 'R CMD check' started to fail recently on the Linux builder(s) over a missing dependency, add the missing dependency to 'Suggests:' in your DESCRIPTION file. See Renviron.bioc for more information. |
Package: CAGEfightR |
Version: 1.22.0 |
Command: /home/biocbuild/bbs-3.18-bioc/R/bin/R CMD check --install=check:CAGEfightR.install-out.txt --library=/home/biocbuild/bbs-3.18-bioc/R/site-library --timings CAGEfightR_1.22.0.tar.gz |
StartedAt: 2024-03-27 20:51:19 -0400 (Wed, 27 Mar 2024) |
EndedAt: 2024-03-27 20:59:42 -0400 (Wed, 27 Mar 2024) |
EllapsedTime: 503.0 seconds |
RetCode: 0 |
Status: OK |
CheckDir: CAGEfightR.Rcheck |
Warnings: 0 |
############################################################################## ############################################################################## ### ### Running command: ### ### /home/biocbuild/bbs-3.18-bioc/R/bin/R CMD check --install=check:CAGEfightR.install-out.txt --library=/home/biocbuild/bbs-3.18-bioc/R/site-library --timings CAGEfightR_1.22.0.tar.gz ### ############################################################################## ############################################################################## * using log directory ‘/home/biocbuild/bbs-3.18-bioc/meat/CAGEfightR.Rcheck’ * using R version 4.3.3 (2024-02-29) * using platform: x86_64-pc-linux-gnu (64-bit) * R was compiled by gcc (Ubuntu 11.4.0-1ubuntu1~22.04) 11.4.0 GNU Fortran (Ubuntu 11.4.0-1ubuntu1~22.04) 11.4.0 * running under: Ubuntu 22.04.4 LTS * using session charset: UTF-8 * checking for file ‘CAGEfightR/DESCRIPTION’ ... OK * checking extension type ... Package * this is package ‘CAGEfightR’ version ‘1.22.0’ * package encoding: UTF-8 * checking package namespace information ... OK * checking package dependencies ... OK * checking if this is a source package ... OK * checking if there is a namespace ... OK * checking for hidden files and directories ... OK * checking for portable file names ... OK * checking for sufficient/correct file permissions ... OK * checking whether package ‘CAGEfightR’ can be installed ... OK * checking installed package size ... OK * checking package directory ... OK * checking ‘build’ directory ... OK * checking DESCRIPTION meta-information ... OK * checking top-level files ... OK * checking for left-over files ... OK * checking index information ... OK * checking package subdirectories ... OK * checking R files for non-ASCII characters ... OK * checking R files for syntax errors ... OK * checking whether the package can be loaded ... OK * checking whether the package can be loaded with stated dependencies ... OK * checking whether the package can be unloaded cleanly ... OK * checking whether the namespace can be loaded with stated dependencies ... OK * checking whether the namespace can be unloaded cleanly ... OK * checking loading without being on the library search path ... OK * checking startup messages can be suppressed ... OK * checking dependencies in R code ... OK * checking S3 generic/method consistency ... OK * checking replacement functions ... OK * checking foreign function calls ... OK * checking R code for possible problems ... OK * checking Rd files ... OK * checking Rd metadata ... OK * checking Rd cross-references ... OK * checking for missing documentation entries ... OK * checking for code/documentation mismatches ... OK * checking Rd \usage sections ... OK * checking Rd contents ... OK * checking for unstated dependencies in examples ... OK * checking contents of ‘data’ directory ... OK * checking data for non-ASCII characters ... OK * checking LazyData ... OK * checking data for ASCII and uncompressed saves ... OK * checking files in ‘vignettes’ ... OK * checking examples ... OK Examples with CPU (user + system) or elapsed time > 5s user system elapsed findLinks 5.439 0.713 5.618 * checking for unstated dependencies in vignettes ... OK * checking package vignettes in ‘inst/doc’ ... OK * checking running R code from vignettes ... ‘Introduction_to_CAGEfightR.Rmd’ using ‘UTF-8’... OK NONE * checking re-building of vignette outputs ... OK * checking PDF version of manual ... OK * DONE Status: OK
CAGEfightR.Rcheck/00install.out
############################################################################## ############################################################################## ### ### Running command: ### ### /home/biocbuild/bbs-3.18-bioc/R/bin/R CMD INSTALL CAGEfightR ### ############################################################################## ############################################################################## * installing to library ‘/home/biocbuild/bbs-3.18-bioc/R/site-library’ * installing *source* package ‘CAGEfightR’ ... ** using staged installation ** R ** data *** moving datasets to lazyload DB ** inst ** byte-compile and prepare package for lazy loading ** help *** installing help indices ** building package indices ** installing vignettes ** testing if installed package can be loaded from temporary location ** testing if installed package can be loaded from final location ** testing if installed package keeps a record of temporary installation path * DONE (CAGEfightR)
CAGEfightR.Rcheck/CAGEfightR-Ex.timings
name | user | system | elapsed | |
assignGeneID | 3.327 | 0.017 | 3.344 | |
assignMissingID | 0.93 | 0.00 | 0.93 | |
assignTxID | 0.745 | 0.004 | 0.749 | |
assignTxType | 0.001 | 0.000 | 0.001 | |
balanceBC | 0 | 0 | 0 | |
balanceD | 0 | 0 | 0 | |
bwCommonGenome | 0.033 | 0.000 | 0.033 | |
bwGenomeCompatibility | 0.015 | 0.000 | 0.015 | |
bwValid | 0.007 | 0.000 | 0.007 | |
calcBidirectionality | 0.391 | 0.003 | 0.394 | |
calcComposition | 1.179 | 0.000 | 1.179 | |
calcPooled | 0.084 | 0.000 | 0.083 | |
calcShape | 3.049 | 0.135 | 3.185 | |
calcSupport | 0.094 | 0.000 | 0.094 | |
calcTPM | 0.113 | 0.000 | 0.114 | |
calcTotalTags | 0.052 | 0.007 | 0.060 | |
checkCTSSs | 0.217 | 0.004 | 0.246 | |
checkPeaked | 0.053 | 0.008 | 0.061 | |
checkPooled | 0.042 | 0.016 | 0.058 | |
clusterBidirectionally | 0.000 | 0.000 | 0.001 | |
clusterUnidirectionally | 1.169 | 0.024 | 1.192 | |
combineClusters | 0.673 | 0.000 | 0.672 | |
convertBAM2BigWig | 0 | 0 | 0 | |
convertBED2BigWig | 0.000 | 0.000 | 0.001 | |
convertGRanges2GPos | 0.067 | 0.000 | 0.066 | |
exampleDesign | 0.004 | 0.000 | 0.003 | |
findLinks | 5.439 | 0.713 | 5.618 | |
findStretches | 0.345 | 0.032 | 0.377 | |
quantifyCTSSs | 0.000 | 0.000 | 0.001 | |
quantifyCTSSs2 | 0 | 0 | 0 | |
quantifyClusters | 0.374 | 0.016 | 0.390 | |
quantifyGenes | 1.099 | 0.052 | 1.151 | |
quickEnhancers | 0 | 0 | 0 | |
quickGenes | 0.001 | 0.000 | 0.000 | |
quickTSSs | 0 | 0 | 0 | |
shapeEntropy | 0.001 | 0.000 | 0.001 | |
shapeIQR | 0.001 | 0.000 | 0.000 | |
shapeMean | 0.001 | 0.000 | 0.000 | |
shapeMultimodality | 0 | 0 | 0 | |
subsetByBidirectionality | 0.368 | 0.004 | 0.372 | |
subsetByComposition | 1.09 | 0.00 | 1.09 | |
subsetBySupport | 0.060 | 0.004 | 0.063 | |
swapRanges | 0.158 | 0.000 | 0.158 | |
swapScores | 0.083 | 0.000 | 0.083 | |
trackBalance | 0 | 0 | 0 | |
trackCTSS | 2.925 | 0.108 | 3.032 | |
trackClusters | 1.989 | 0.224 | 2.213 | |
trackLinks | 0.774 | 0.561 | 0.948 | |
trimToPeak | 0.651 | 0.067 | 0.719 | |
trimToPercentiles | 1.726 | 0.085 | 1.810 | |
tuneTagClustering | 0 | 0 | 0 | |
utilsAggregateRows | 0.311 | 0.116 | 0.426 | |
utilsDeStrand | 0.111 | 0.007 | 0.119 | |
utilsScoreOverlaps | 0.062 | 0.000 | 0.063 | |
utilsSimplifyTxDb | 0 | 0 | 0 | |