Name | Last modified | Size | Description | |
---|---|---|---|---|
Parent Directory | - | |||
install-summary.dcf | 17-Jul-2024 06:39 | 282 | ||
install-out.txt | 17-Jul-2024 06:39 | 3.2K | ||
buildsrc-out.txt | 17-Jul-2024 06:39 | 906 | ||
buildsrc-summary.dcf | 17-Jul-2024 06:39 | 480 | ||
checksrc-out.txt | 17-Jul-2024 06:39 | 4.6K | ||
checksrc-summary.dcf | 17-Jul-2024 06:39 | 474 | ||
buildbin-out.txt | 17-Jul-2024 06:39 | 3.4K | ||
buildbin-summary.dcf | 17-Jul-2024 06:39 | 557 | ||