Name | Last modified | Size | Description | |
---|---|---|---|---|
Parent Directory | - | |||
checksrc-out.txt | 12-Jun-2024 03:41 | 3.5K | ||
buildbin-out.txt | 12-Jun-2024 03:41 | 1.2K | ||
install-out.txt | 12-Jun-2024 03:41 | 1.0K | ||
buildsrc-out.txt | 12-Jun-2024 03:41 | 856 | ||
buildbin-summary.dcf | 12-Jun-2024 03:41 | 589 | ||
checksrc-summary.dcf | 12-Jun-2024 03:41 | 483 | ||
buildsrc-summary.dcf | 12-Jun-2024 03:41 | 457 | ||
install-summary.dcf | 12-Jun-2024 03:41 | 288 | ||