Name | Last modified | Size | Description | |
---|---|---|---|---|
Parent Directory | - | |||
checksrc-out.txt | 10-May-2024 00:40 | 3.5K | ||
checksrc-summary.dcf | 10-May-2024 00:40 | 491 | ||
buildsrc-summary.dcf | 10-May-2024 00:40 | 457 | ||
buildsrc-out.txt | 10-May-2024 00:40 | 857 | ||
install-summary.dcf | 10-May-2024 00:40 | 289 | ||
install-out.txt | 10-May-2024 00:40 | 1.0K | ||