Name | Last modified | Size | Description | |
---|---|---|---|---|
Parent Directory | - | |||
buildsrc-out.txt | 04-May-2024 00:40 | 835 | ||
buildsrc-summary.dcf | 04-May-2024 00:40 | 376 | ||
checksrc-out.txt | 04-May-2024 00:40 | 2.4K | ||
checksrc-summary.dcf | 04-May-2024 00:40 | 466 | ||
install-out.txt | 04-May-2024 00:40 | 896 | ||
install-summary.dcf | 04-May-2024 00:40 | 277 | ||