Index of /checkResults/release/bioc-LATEST/BiocSingular/raw-results/riesling1

[ICO]NameLast modifiedSizeDescription

[DIR]Parent Directory  -  
[TXT]install-out.txt19-Mar-2022 00:07 16K 
[   ]install-summary.dcf19-Mar-2022 00:07 278  
[TXT]buildsrc-out.txt19-Mar-2022 00:07 896  
[   ]buildsrc-summary.dcf19-Mar-2022 00:07 472  
[TXT]checksrc-out.txt19-Mar-2022 00:07 3.8K 
[   ]checksrc-summary.dcf19-Mar-2022 00:07 467  
[TXT]buildbin-out.txt19-Mar-2022 00:07 16K 
[   ]buildbin-summary.dcf19-Mar-2022 00:07 545