Name | Last modified | Size | Description | |
---|---|---|---|---|
Parent Directory | - | |||
install-out.txt | 30-Mar-2024 00:36 | 2.0K | ||
install-summary.dcf | 30-Mar-2024 00:36 | 278 | ||
buildsrc-out.txt | 30-Mar-2024 00:36 | 896 | ||
buildsrc-summary.dcf | 30-Mar-2024 00:36 | 472 | ||
checksrc-out.txt | 30-Mar-2024 00:36 | 4.0K | ||
checksrc-summary.dcf | 30-Mar-2024 00:36 | 467 | ||
buildbin-out.txt | 30-Mar-2024 00:36 | 2.2K | ||
buildbin-summary.dcf | 30-Mar-2024 00:36 | 545 | ||