Index of /checkResults/release/bioc-LATEST/BiocSingular/raw-results/palomino4

[ICO]NameLast modifiedSizeDescription

[DIR]Parent Directory  -  
[TXT]buildbin-out.txt27-Jan-2023 01:06 16K 
[   ]buildbin-summary.dcf27-Jan-2023 01:06 545  
[TXT]buildsrc-out.txt27-Jan-2023 01:06 896  
[   ]buildsrc-summary.dcf27-Jan-2023 01:06 472  
[TXT]checksrc-out.txt27-Jan-2023 01:06 3.7K 
[   ]checksrc-summary.dcf27-Jan-2023 01:06 467  
[TXT]install-out.txt27-Jan-2023 01:06 15K 
[   ]install-summary.dcf27-Jan-2023 01:06 278