Index of /checkResults/release/bioc-LATEST/BiocSingular/raw-results/nebbiolo2

[ICO]NameLast modifiedSizeDescription

[DIR]Parent Directory  -  
[TXT]buildsrc-out.txt01-Dec-2022 01:05 856  
[   ]buildsrc-summary.dcf01-Dec-2022 01:05 432  
[TXT]checksrc-out.txt01-Dec-2022 01:05 3.2K 
[   ]checksrc-summary.dcf01-Dec-2022 01:05 429  
[TXT]install-out.txt01-Dec-2022 01:05 15K 
[   ]install-summary.dcf01-Dec-2022 01:05 269