Index of /checkResults/release/bioc-LATEST/BiocSingular/raw-results/nebbiolo1

[ICO]NameLast modifiedSizeDescription

[DIR]Parent Directory  -  
[   ]install-summary.dcf06-Aug-2022 03:18 269  
[   ]buildsrc-summary.dcf06-Aug-2022 03:18 432  
[   ]checksrc-summary.dcf06-Aug-2022 03:18 444  
[TXT]buildsrc-out.txt06-Aug-2022 03:18 856  
[TXT]checksrc-out.txt06-Aug-2022 03:18 3.2K 
[TXT]install-out.txt06-Aug-2022 03:18 15K