Index of /checkResults/release/bioc-LATEST/BiocSingular/raw-results/machv2

[ICO]NameLast modifiedSizeDescription

[DIR]Parent Directory  -  
[TXT]buildbin-out.txt15-Jan-2022 03:07 12K 
[   ]buildbin-summary.dcf15-Jan-2022 03:07 560  
[TXT]buildsrc-out.txt15-Jan-2022 03:07 866  
[   ]buildsrc-summary.dcf15-Jan-2022 03:07 443  
[TXT]checksrc-out.txt15-Jan-2022 03:07 3.2K 
[   ]checksrc-summary.dcf15-Jan-2022 03:07 464  
[TXT]install-out.txt15-Jan-2022 03:07 11K 
[   ]install-summary.dcf15-Jan-2022 03:07 279