Index of /checkResults/release/bioc-LATEST/BiocSet/raw-results/riesling1

[ICO]NameLast modifiedSizeDescription

[DIR]Parent Directory  -  
[TXT]buildbin-out.txt19-Mar-2022 00:07 2.0K 
[   ]buildbin-summary.dcf19-Mar-2022 00:07 512  
[TXT]buildsrc-out.txt19-Mar-2022 00:07 875  
[   ]buildsrc-summary.dcf19-Mar-2022 00:07 451  
[TXT]checksrc-out.txt19-Mar-2022 00:07 3.1K 
[   ]checksrc-summary.dcf19-Mar-2022 00:07 445  
[TXT]install-out.txt19-Mar-2022 00:07 2.1K 
[   ]install-summary.dcf19-Mar-2022 00:07 267