Name | Last modified | Size | Description | |
---|---|---|---|---|
Parent Directory | - | |||
buildsrc-out.txt | 17-Jul-2024 06:38 | 806 | ||
buildsrc-summary.dcf | 17-Jul-2024 06:38 | 416 | ||
checksrc-out.txt | 17-Jul-2024 06:38 | 3.2K | ||
checksrc-summary.dcf | 17-Jul-2024 06:38 | 414 | ||
install-out.txt | 17-Jul-2024 06:38 | 952 | ||
install-summary.dcf | 17-Jul-2024 06:38 | 259 | ||