Index of /checkResults/release/bioc-LATEST/BioQC/raw-results/nebbiolo1

[ICO]NameLast modifiedSizeDescription

[DIR]Parent Directory  -  
[TXT]buildsrc-out.txt24-Sep-2023 00:34 828  
[   ]buildsrc-summary.dcf24-Sep-2023 00:34 410  
[TXT]checksrc-out.txt24-Sep-2023 00:34 4.1K 
[   ]checksrc-summary.dcf24-Sep-2023 00:34 406  
[TXT]install-out.txt24-Sep-2023 00:34 3.3K 
[   ]install-summary.dcf24-Sep-2023 00:34 255