Index of /checkResults/release/bioc-LATEST/BioQC/raw-results
Name
Last modified
Size
Description
Parent Directory
-
info.dcf
24-Sep-2023 00:36
279
merida1/
24-Sep-2023 00:36
-
nebbiolo1/
24-Sep-2023 00:34
-
palomino3/
24-Sep-2023 00:35
-