Back to Multiple platform build/check report for BioC 3.15
A[B]CDEFGHIJKLMNOPQRSTUVWXYZ

This page was generated on 2022-07-01 12:07:37 -0400 (Fri, 01 Jul 2022).

HostnameOSArch (*)R versionInstalled pkgs
nebbiolo1Linux (Ubuntu 20.04.4 LTS)x86_644.2.0 (2022-04-22) -- "Vigorous Calisthenics" 4380
palomino3Windows Server 2022 Datacenterx644.2.0 (2022-04-22 ucrt) -- "Vigorous Calisthenics" 4156
merida1macOS 10.14.6 Mojavex86_644.2.0 (2022-04-22) -- "Vigorous Calisthenics" 4221
Click on any hostname to see more info about the system (e.g. compilers)      (*) as reported by 'uname -p', except on Windows and Mac OS X

BUILD results for BioPlex on merida1


To the developers/maintainers of the BioPlex package:
- Please allow up to 24 hours (and sometimes 48 hours) for your latest push to git@git.bioconductor.org:packages/BioPlex.git to
reflect on this report. See How and When does the builder pull? When will my changes propagate? for more information.
- Make sure to use the following settings in order to reproduce any error or warning you see on this page.

raw results

Package 195/2140HostnameOS / ArchINSTALLBUILDCHECKBUILD BIN
BioPlex 1.2.3  (landing page)
Ludwig Geistlinger
Snapshot Date: 2022-06-30 13:55:04 -0400 (Thu, 30 Jun 2022)
git_url: https://git.bioconductor.org/packages/BioPlex
git_branch: RELEASE_3_15
git_last_commit: ba606c6
git_last_commit_date: 2022-06-13 16:13:53 -0400 (Mon, 13 Jun 2022)
nebbiolo1Linux (Ubuntu 20.04.4 LTS) / x86_64  OK    OK    OK  UNNEEDED, same version is already published
palomino3Windows Server 2022 Datacenter / x64  OK    OK    OK    OK  UNNEEDED, same version is already published
merida1macOS 10.14.6 Mojave / x86_64  OK    OK    OK    OK  UNNEEDED, same version is already published

Summary

Package: BioPlex
Version: 1.2.3
Command: /Library/Frameworks/R.framework/Resources/bin/R CMD build --keep-empty-dirs --no-resave-data BioPlex
StartedAt: 2022-06-30 16:59:59 -0400 (Thu, 30 Jun 2022)
EndedAt: 2022-06-30 17:04:17 -0400 (Thu, 30 Jun 2022)
EllapsedTime: 258.1 seconds
RetCode: 0
Status:   OK  
PackageFile: BioPlex_1.2.3.tar.gz
PackageFileSize: 715.1 KiB

Command output

##############################################################################
##############################################################################
###
### Running command:
###
###   /Library/Frameworks/R.framework/Resources/bin/R CMD build --keep-empty-dirs --no-resave-data BioPlex
###
##############################################################################
##############################################################################


* checking for file ‘BioPlex/DESCRIPTION’ ... OK
* preparing ‘BioPlex’:
* checking DESCRIPTION meta-information ... OK
* installing the package to build vignettes
* creating vignettes ... OK
* checking for LF line-endings in source and make files and shell scripts
* checking for empty or unneeded directories
Omitted ‘LazyData’ from DESCRIPTION
* building ‘BioPlex_1.2.3.tar.gz’