Name | Last modified | Size | Description | |
---|---|---|---|---|
Parent Directory | - | |||
install-out.txt | 26-Jun-2024 06:39 | 1.2K | ||
install-summary.dcf | 26-Jun-2024 06:39 | 265 | ||
buildsrc-out.txt | 26-Jun-2024 06:39 | 881 | ||
buildsrc-summary.dcf | 26-Jun-2024 06:39 | 425 | ||
checksrc-out.txt | 26-Jun-2024 06:39 | 8.4K | ||
checksrc-summary.dcf | 26-Jun-2024 06:39 | 430 | ||