Name | Last modified | Size | Description | |
---|---|---|---|---|
Parent Directory | - | |||
install-summary.dcf | 26-Jun-2024 06:41 | 275 | ||
install-out.txt | 26-Jun-2024 06:41 | 1.2K | ||
checksrc-summary.dcf | 26-Jun-2024 06:41 | 460 | ||
checksrc-out.txt | 26-Jun-2024 06:41 | 8.6K | ||
buildsrc-summary.dcf | 26-Jun-2024 06:41 | 435 | ||
buildsrc-out.txt | 26-Jun-2024 06:41 | 891 | ||
buildbin-summary.dcf | 26-Jun-2024 06:41 | 548 | ||
buildbin-out.txt | 26-Jun-2024 06:41 | 1.4K | ||