Back to Multiple platform build/check report for BioC 3.12
A[B]CDEFGHIJKLMNOPQRSTUVWXYZ

INSTALL report for BioMVCClass on tokay1

This page was generated on 2021-02-22 12:37:07 -0500 (Mon, 22 Feb 2021).

To the developers/maintainers of the BioMVCClass package:
Please make sure to use the following settings in order to reproduce any error or warning you see on this page.
Package 180/1974HostnameOS / ArchINSTALLBUILDCHECKBUILD BIN
BioMVCClass 1.58.0
Elizabeth Whalen
Snapshot Date: 2021-02-21 14:52:07 -0500 (Sun, 21 Feb 2021)
URL: https://git.bioconductor.org/packages/BioMVCClass
Branch: RELEASE_3_12
Last Commit: 58f7377
Last Changed Date: 2020-10-27 10:29:17 -0500 (Tue, 27 Oct 2020)
malbec1Linux (Ubuntu 18.04.5 LTS) / x86_64  OK    OK    OK  UNNEEDED, same version exists in internal repository
nebbiolo1Linux (Ubuntu 20.04.2 LTS) / x86_64  OK    OK    OK  
tokay1Windows Server 2012 R2 Standard / x64  OK    OK    OK    OK  UNNEEDED, same version exists in internal repository
merida1macOS 10.14.6 Mojave / x86_64  OK    OK    OK    OK  UNNEEDED, same version exists in internal repository

Summary

Package: BioMVCClass
Version: 1.58.0
Command: C:\cygwin\bin\curl.exe -O https://malbec1.bioconductor.org/BBS/3.12/bioc/src/contrib/BioMVCClass_1.58.0.tar.gz && rm -rf BioMVCClass.buildbin-libdir && mkdir BioMVCClass.buildbin-libdir && C:\Users\biocbuild\bbs-3.12-bioc\R\bin\R.exe CMD INSTALL --merge-multiarch --build --library=BioMVCClass.buildbin-libdir BioMVCClass_1.58.0.tar.gz && C:\Users\biocbuild\bbs-3.12-bioc\R\bin\R.exe CMD INSTALL BioMVCClass_1.58.0.zip && rm BioMVCClass_1.58.0.tar.gz BioMVCClass_1.58.0.zip
StartedAt: 2021-02-21 17:14:00 -0500 (Sun, 21 Feb 2021)
EndedAt: 2021-02-21 17:14:28 -0500 (Sun, 21 Feb 2021)
EllapsedTime: 28.0 seconds
RetCode: 0
Status:   OK   

Command output

##############################################################################
##############################################################################
###
### Running command:
###
###   C:\cygwin\bin\curl.exe -O https://malbec1.bioconductor.org/BBS/3.12/bioc/src/contrib/BioMVCClass_1.58.0.tar.gz && rm -rf BioMVCClass.buildbin-libdir && mkdir BioMVCClass.buildbin-libdir && C:\Users\biocbuild\bbs-3.12-bioc\R\bin\R.exe CMD INSTALL --merge-multiarch --build --library=BioMVCClass.buildbin-libdir BioMVCClass_1.58.0.tar.gz && C:\Users\biocbuild\bbs-3.12-bioc\R\bin\R.exe CMD INSTALL BioMVCClass_1.58.0.zip && rm BioMVCClass_1.58.0.tar.gz BioMVCClass_1.58.0.zip
###
##############################################################################
##############################################################################


  % Total    % Received % Xferd  Average Speed   Time    Time     Time  Current
                                 Dload  Upload   Total   Spent    Left  Speed

  0     0    0     0    0     0      0      0 --:--:-- --:--:-- --:--:--     0
100 41585  100 41585    0     0  1100k      0 --:--:-- --:--:-- --:--:-- 1230k

install for i386

* installing *source* package 'BioMVCClass' ...
** using staged installation
** R
** byte-compile and prepare package for lazy loading
** help
*** installing help indices
  converting help for package 'BioMVCClass'
    finding HTML links ... done
    GSE-class                               html  
    exprModel-class                         html  
    graphModel-class                        html  
    graphView-class                         html  
    gseModel-class                          html  
    heatmapView-class                       html  
** building package indices
** installing vignettes
** testing if installed package can be loaded from temporary location
** testing if installed package can be loaded from final location
** testing if installed package keeps a record of temporary installation path

install for x64

* installing *source* package 'BioMVCClass' ...
** testing if installed package can be loaded
* MD5 sums
packaged installation of 'BioMVCClass' as BioMVCClass_1.58.0.zip
* DONE (BioMVCClass)
* installing to library 'C:/Users/biocbuild/bbs-3.12-bioc/R/library'
package 'BioMVCClass' successfully unpacked and MD5 sums checked