Back to Multiple platform build/check report for BioC 3.12
A[B]CDEFGHIJKLMNOPQRSTUVWXYZ

BUILD report for BioMVCClass on tokay1

This page was generated on 2021-02-22 12:37:07 -0500 (Mon, 22 Feb 2021).

To the developers/maintainers of the BioMVCClass package:
Please make sure to use the following settings in order to reproduce any error or warning you see on this page.
Package 180/1974HostnameOS / ArchINSTALLBUILDCHECKBUILD BIN
BioMVCClass 1.58.0
Elizabeth Whalen
Snapshot Date: 2021-02-21 14:52:07 -0500 (Sun, 21 Feb 2021)
URL: https://git.bioconductor.org/packages/BioMVCClass
Branch: RELEASE_3_12
Last Commit: 58f7377
Last Changed Date: 2020-10-27 10:29:17 -0500 (Tue, 27 Oct 2020)
malbec1Linux (Ubuntu 18.04.5 LTS) / x86_64  OK    OK    OK  UNNEEDED, same version exists in internal repository
nebbiolo1Linux (Ubuntu 20.04.2 LTS) / x86_64  OK    OK    OK  
tokay1Windows Server 2012 R2 Standard / x64  OK    OK    OK    OK  UNNEEDED, same version exists in internal repository
merida1macOS 10.14.6 Mojave / x86_64  OK    OK    OK    OK  UNNEEDED, same version exists in internal repository

Summary

Package: BioMVCClass
Version: 1.58.0
Command: chmod a+r BioMVCClass -R && C:\Users\biocbuild\bbs-3.12-bioc\R\bin\R.exe CMD build --keep-empty-dirs --no-resave-data BioMVCClass
StartedAt: 2021-02-21 19:53:22 -0500 (Sun, 21 Feb 2021)
EndedAt: 2021-02-21 19:53:51 -0500 (Sun, 21 Feb 2021)
EllapsedTime: 29.2 seconds
RetCode: 0
Status:   OK   
PackageFile: BioMVCClass_1.58.0.tar.gz
PackageFileSize: 171.4 KiB

Command output

##############################################################################
##############################################################################
###
### Running command:
###
###   chmod a+r BioMVCClass -R && C:\Users\biocbuild\bbs-3.12-bioc\R\bin\R.exe CMD build --keep-empty-dirs --no-resave-data BioMVCClass
###
##############################################################################
##############################################################################


* checking for file 'BioMVCClass/DESCRIPTION' ... OK
* preparing 'BioMVCClass':
* checking DESCRIPTION meta-information ... OK
* installing the package to build vignettes
* creating vignettes ... OK
* checking for LF line-endings in source and make files and shell scripts
* checking for empty or unneeded directories
* building 'BioMVCClass_1.58.0.tar.gz'