Back to Multiple platform build/check report for BioC 3.12
A[B]CDEFGHIJKLMNOPQRSTUVWXYZ

Multiple platform build/check report for BioC 3.12

Results for BioMVCClass

This page was generated on 2021-01-25 11:47:35 -0500 (Mon, 25 Jan 2021).

Package 180/1974HostnameOS / ArchINSTALLBUILDCHECKBUILD BIN
BioMVCClass 1.58.0
Elizabeth Whalen
Snapshot Date: 2021-01-24 14:40:16 -0500 (Sun, 24 Jan 2021)
URL: https://git.bioconductor.org/packages/BioMVCClass
Branch: RELEASE_3_12
Last Commit: 58f7377
Last Changed Date: 2020-10-27 10:29:17 -0500 (Tue, 27 Oct 2020)
malbec1 Linux (Ubuntu 18.04.5 LTS) / x86_64  OK  OK  OK UNNEEDED, same version exists in internal repository
nebbiolo1 Linux (Ubuntu 20.04.1 LTS) / x86_64  OK  OK  OK 
tokay1 Windows Server 2012 R2 Standard / x64  OK  OK  OK  OK UNNEEDED, same version exists in internal repository
merida1 macOS 10.14.6 Mojave / x86_64  OK  OK  OK  OK UNNEEDED, same version exists in internal repository