Index of /checkResults/release/bioc-LATEST/BioMM/raw-results/nebbiolo2
Name
Last modified
Size
Description
Parent Directory
-
buildsrc-out.txt
18-Apr-2024 00:35
1.3K
buildsrc-summary.dcf
18-Apr-2024 00:35
329
install-out.txt
18-Apr-2024 00:35
1.3K
install-summary.dcf
18-Apr-2024 00:35
255