Index of /checkResults/release/bioc-LATEST/BioMM/raw-results/merida1
Name
Last modified
Size
Description
Parent Directory
-
buildsrc-out.txt
28-Mar-2024 00:37
1.3K
buildsrc-summary.dcf
28-Mar-2024 00:37
340
install-out.txt
28-Mar-2024 00:37
1.3K
install-summary.dcf
28-Mar-2024 00:37
265