Index of /checkResults/release/bioc-LATEST/BioMM/raw-results/kunpeng2
Name
Last modified
Size
Description
Parent Directory
-
buildsrc-out.txt
03-Nov-2023 00:40
1.2K
buildsrc-summary.dcf
03-Nov-2023 00:40
323
install-out.txt
03-Nov-2023 00:40
1.2K
install-summary.dcf
03-Nov-2023 00:40
249