Name | Last modified | Size | Description | |
---|---|---|---|---|
Parent Directory | - | |||
buildsrc-out.txt | 10-Jul-2024 06:38 | 1.1K | ||
buildsrc-summary.dcf | 10-Jul-2024 06:38 | 411 | ||
checksrc-out.txt | 10-Jul-2024 06:38 | 3.2K | ||
checksrc-summary.dcf | 10-Jul-2024 06:38 | 406 | ||
install-out.txt | 10-Jul-2024 06:38 | 946 | ||
install-summary.dcf | 10-Jul-2024 06:38 | 254 | ||