Name | Last modified | Size | Description | |
---|---|---|---|---|
Parent Directory | - | |||
install-summary.dcf | 10-Jul-2024 06:38 | 261 | ||
buildsrc-summary.dcf | 10-Jul-2024 06:38 | 420 | ||
checksrc-summary.dcf | 10-Jul-2024 06:38 | 422 | ||
buildsrc-out.txt | 10-Jul-2024 06:38 | 810 | ||
install-out.txt | 10-Jul-2024 06:38 | 955 | ||
checksrc-out.txt | 10-Jul-2024 06:38 | 6.3K | ||