Index of /checkResults/release/bioc-LATEST/BgeeCall/raw-results/kjohnson1

[ICO]NameLast modifiedSizeDescription

[DIR]Parent Directory  -  
[TXT]buildbin-out.txt17-Jul-2024 06:42 1.2K 
[   ]buildbin-summary.dcf17-Jul-2024 06:42 536  
[TXT]buildsrc-out.txt17-Jul-2024 06:42 820  
[   ]buildsrc-summary.dcf17-Jul-2024 06:42 431  
[TXT]checksrc-out.txt17-Jul-2024 06:42 5.1K 
[   ]checksrc-summary.dcf17-Jul-2024 06:42 448  
[TXT]install-out.txt17-Jul-2024 06:42 1.0K 
[   ]install-summary.dcf17-Jul-2024 06:42 271