Back to Multiple platform build/check report for BioC 3.19:   simplified   long
A[B]CDEFGHIJKLMNOPQRSTUVWXYZ

This page was generated on 2024-07-19 17:40 -0400 (Fri, 19 Jul 2024).

HostnameOSArch (*)R versionInstalled pkgs
nebbiolo1Linux (Ubuntu 22.04.3 LTS)x86_644.4.1 (2024-06-14) -- "Race for Your Life" 4742
palomino7Windows Server 2022 Datacenterx644.4.1 (2024-06-14 ucrt) -- "Race for Your Life" 4484
merida1macOS 12.7.5 Montereyx86_644.4.1 (2024-06-14) -- "Race for Your Life" 4513
kjohnson1macOS 13.6.6 Venturaarm644.4.1 (2024-06-14) -- "Race for Your Life" 4462
Click on any hostname to see more info about the system (e.g. compilers)      (*) as reported by 'uname -p', except on Windows and Mac OS X

Package 160/2300HostnameOS / ArchINSTALLBUILDCHECKBUILD BIN
BgeeCall 1.20.1  (landing page)
Julien Wollbrett
Snapshot Date: 2024-07-17 14:00 -0400 (Wed, 17 Jul 2024)
git_url: https://git.bioconductor.org/packages/BgeeCall
git_branch: RELEASE_3_19
git_last_commit: 77e8402
git_last_commit_date: 2024-07-12 06:53:37 -0400 (Fri, 12 Jul 2024)
nebbiolo1Linux (Ubuntu 22.04.3 LTS) / x86_64  OK    ERROR  skipped
palomino7Windows Server 2022 Datacenter / x64  OK    OK    OK    OK  
merida1macOS 12.7.5 Monterey / x86_64  OK    OK    OK    OK  UNNEEDED, same version is already published
kjohnson1macOS 13.6.6 Ventura / arm64  OK    OK    OK    OK  UNNEEDED, same version is already published


BUILD BIN results for BgeeCall on kjohnson1

To the developers/maintainers of the BgeeCall package:
- Allow up to 24 hours (and sometimes 48 hours) for your latest push to git@git.bioconductor.org:packages/BgeeCall.git to reflect on this report. See Troubleshooting Build Report for more information.
- Use the following Renviron settings to reproduce errors and warnings.
- If 'R CMD check' started to fail recently on the Linux builder(s) over a missing dependency, add the missing dependency to 'Suggests:' in your DESCRIPTION file. See Renviron.bioc for more information.

raw results


Summary

Package: BgeeCall
Version: 1.20.1
Command: rm -rf BgeeCall.buildbin-libdir && mkdir BgeeCall.buildbin-libdir && /Users/biocbuild/BBS/utils/build-universal.sh BgeeCall_1.20.1.tar.gz /Library/Frameworks/R.framework/Resources/bin/R BgeeCall.buildbin-libdir
StartedAt: 2024-07-19 15:39:21 -0400 (Fri, 19 Jul 2024)
EndedAt: 2024-07-19 15:40:11 -0400 (Fri, 19 Jul 2024)
EllapsedTime: 49.8 seconds
RetCode: 0
Status:   OK  
PackageFile: BgeeCall_1.20.1.tgz
PackageFileSize: 5.951 MiB

Command output

##############################################################################
##############################################################################
###
### Running command:
###
###   rm -rf BgeeCall.buildbin-libdir && mkdir BgeeCall.buildbin-libdir && /Users/biocbuild/BBS/utils/build-universal.sh BgeeCall_1.20.1.tar.gz /Library/Frameworks/R.framework/Resources/bin/R BgeeCall.buildbin-libdir
###
##############################################################################
##############################################################################


>>>>>>> 
>>>>>>> INSTALLATION WITH 'R CMD INSTALL --preclean --no-multiarch --library=BgeeCall.buildbin-libdir BgeeCall_1.20.1.tar.gz'
>>>>>>> 

* installing *source* package ‘BgeeCall’ ...
** using staged installation
** R
** inst
** byte-compile and prepare package for lazy loading
** help
*** installing help indices
** building package indices
** installing vignettes
** testing if installed package can be loaded from temporary location
** testing if installed package can be loaded from final location
** testing if installed package keeps a record of temporary installation path
* DONE (BgeeCall)