Name | Last modified | Size | Description | |
---|---|---|---|---|
Parent Directory | - | |||
install-summary.dcf | 12-Jun-2024 03:43 | 275 | ||
install-out.txt | 12-Jun-2024 03:43 | 2.9K | ||
checksrc-summary.dcf | 12-Jun-2024 03:43 | 456 | ||
checksrc-out.txt | 12-Jun-2024 03:43 | 4.4K | ||
buildsrc-summary.dcf | 12-Jun-2024 03:43 | 437 | ||
buildsrc-out.txt | 12-Jun-2024 03:43 | 858 | ||
buildbin-summary.dcf | 12-Jun-2024 03:43 | 549 | ||
buildbin-out.txt | 12-Jun-2024 03:43 | 6.5K | ||