Name | Last modified | Size | Description | |
---|---|---|---|---|
Parent Directory | - | |||
install-summary.dcf | 24-Jul-2024 22:06 | 275 | ||
install-out.txt | 24-Jul-2024 22:06 | 2.9K | ||
checksrc-summary.dcf | 24-Jul-2024 22:06 | 456 | ||
checksrc-out.txt | 24-Jul-2024 22:06 | 4.3K | ||
buildsrc-summary.dcf | 24-Jul-2024 22:06 | 437 | ||
buildsrc-out.txt | 24-Jul-2024 22:06 | 858 | ||
buildbin-summary.dcf | 24-Jul-2024 22:06 | 548 | ||
buildbin-out.txt | 24-Jul-2024 22:06 | 6.5K | ||