Name | Last modified | Size | Description | |
---|---|---|---|---|
Parent Directory | - | |||
buildbin-out.txt | 24-Jul-2024 22:05 | 1.2K | ||
buildbin-summary.dcf | 24-Jul-2024 22:05 | 571 | ||
buildsrc-out.txt | 24-Jul-2024 22:05 | 844 | ||
buildsrc-summary.dcf | 24-Jul-2024 22:05 | 448 | ||
checksrc-out.txt | 24-Jul-2024 22:05 | 3.2K | ||
checksrc-summary.dcf | 24-Jul-2024 22:05 | 471 | ||
install-out.txt | 24-Jul-2024 22:05 | 1.0K | ||
install-summary.dcf | 24-Jul-2024 22:05 | 283 | ||