Name | Last modified | Size | Description | |
---|---|---|---|---|
Parent Directory | - | |||
install-summary.dcf | 24-Jul-2024 22:06 | 282 | ||
install-out.txt | 24-Jul-2024 22:06 | 1.0K | ||
buildsrc-out.txt | 24-Jul-2024 22:06 | 844 | ||
buildsrc-summary.dcf | 24-Jul-2024 22:06 | 447 | ||
checksrc-out.txt | 24-Jul-2024 22:06 | 3.2K | ||
checksrc-summary.dcf | 24-Jul-2024 22:06 | 471 | ||
buildbin-out.txt | 24-Jul-2024 22:06 | 1.2K | ||
buildbin-summary.dcf | 24-Jul-2024 22:06 | 569 | ||