Index of /checkResults/release/bioc-LATEST/Basic4Cseq/raw-results
Name
Last modified
Size
Description
Parent Directory
-
info.dcf
25-Mar-2023 00:06
289
kjohnson/
12-Jul-2022 00:06
-
lconway/
25-Mar-2023 00:06
-
nebbiolo2/
25-Mar-2023 00:05
-
palomino4/
25-Mar-2023 00:05
-